{"text_format":"3","workbook":"xlsx","n_sheets":2,"sheets":["Leistung u. Drehmoment","Getriebe- u. Zugkraftdiagramm"],"not_rendered":{"charts":3,"defined_names":2,"comments":2},"read":"whole","date_system":"1900"}

{"sheet":"Leistung u. Drehmoment","index":0,"n_rows":31,"n_cols":13,"rows_kept":31,"merged":[[0,0,0,1],[1,0,1,1],[1,13,2,13],[2,0,2,1],[3,0,3,1],[4,0,4,1],[5,0,5,1],[6,0,6,11]]}
["n/min-1",null,3000,4000,4500,5000,5500,6000,6500,7000,7500,8000,8500]
["M/Nm "]
["P/kW",null,11,20,25,30,35,39,42,43.5,43,40,34]
["Mberechnet/Nm",null,{"$f":"IF(C1=\"\",\"\",IF(C2=\"\",C3/C1*9550,C2))","v":{"v":35.0166666666667,"d":"35.0"}},{"$f":"IF(D1=\"\",C4,IF(D2=\"\",D3/D1*9550,D2))","v":{"v":47.75,"d":"47.8"}},{"$f":"IF(E1=\"\",D4,IF(E2=\"\",E3/E1*9550,E2))","v":{"v":53.0555555555556,"d":"53.1"}},{"$f":"IF(F1=\"\",E4,IF(F2=\"\",F3/F1*9550,F2))","v":57.3},{"$f":"IF(G1=\"\",F4,IF(G2=\"\",G3/G1*9550,G2))","v":{"v":60.7727272727273,"d":"60.8"}},{"$f":"IF(H1=\"\",G4,IF(H2=\"\",H3/H1*9550,H2))","v":{"v":62.075,"d":"62.1"}},{"$f":"IF(I1=\"\",H4,IF(I2=\"\",I3/I1*9550,I2))","v":{"v":61.7076923076923,"d":"61.7"}},{"$f":"IF(J1=\"\",I4,IF(J2=\"\",J3/J1*9550,J2))","v":{"v":59.3464285714286,"d":"59.3"}},{"$f":"IF(K1=\"\",J4,IF(K2=\"\",K3/K1*9550,K2))","v":{"v":54.7533333333333,"d":"54.8"}},{"$f":"IF(L1=\"\",K4,IF(L2=\"\",L3/L1*9550,L2))","v":{"v":47.75,"d":"47.8"}},{"$f":"IF(M1=\"\",L4,IF(M2=\"\",M3/M1*9550,M2))","v":38.2}]
["Pberechnet/kW",null,{"$f":"IF(C1=\"\",\"\",IF(C3=\"\",C4*C1/9550,C3))","v":{"v":11,"d":"11.0"}},{"$f":"IF(D1=\"\",C5,IF(D3=\"\",D4*D1/9550,D3))","v":{"v":20,"d":"20.0"}},{"$f":"IF(E1=\"\",D5,IF(E3=\"\",E4*E1/9550,E3))","v":{"v":25,"d":"25.0"}},{"$f":"IF(F1=\"\",E5,IF(F3=\"\",F4*F1/9550,F3))","v":{"v":30,"d":"30.0"}},{"$f":"IF(G1=\"\",F5,IF(G3=\"\",G4*G1/9550,G3))","v":{"v":35,"d":"35.0"}},{"$f":"IF(H1=\"\",G5,IF(H3=\"\",H4*H1/9550,H3))","v":{"v":39,"d":"39.0"}},{"$f":"IF(I1=\"\",H5,IF(I3=\"\",I4*I1/9550,I3))","v":{"v":42,"d":"42.0"}},{"$f":"IF(J1=\"\",I5,IF(J3=\"\",J4*J1/9550,J3))","v":43.5},{"$f":"IF(K1=\"\",J5,IF(K3=\"\",K4*K1/9550,K3))","v":{"v":43,"d":"43.0"}},{"$f":"IF(L1=\"\",K5,IF(L3=\"\",L4*L1/9550,L3))","v":{"v":40,"d":"40.0"}},{"$f":"IF(M1=\"\",L5,IF(M3=\"\",M4*M1/9550,M3))","v":{"v":34,"d":"34.0"}}]
["Pberechnet/PS",null,{"$f":"C5*1.36","v":{"v":14.96,"d":"15.0"}},{"$f":"D5*1.36","v":27.2},{"$f":"E5*1.36","v":{"v":34,"d":"34.0"}},{"$f":"F5*1.36","v":40.8},{"$f":"G5*1.36","v":47.6},{"$f":"H5*1.36","v":{"v":53.04,"d":"53.0"}},{"$f":"I5*1.36","v":{"v":57.12,"d":"57.1"}},{"$f":"J5*1.36","v":{"v":59.16,"d":"59.2"}},{"$f":"K5*1.36","v":{"v":58.48,"d":"58.5"}},{"$f":"L5*1.36","v":54.4},{"$f":"M5*1.36","v":{"v":46.24,"d":"46.2"}}]
["KTM LC4 640, Bj 2001\nAkrapovich Titan, Mikuni TM 42, Kanäle geglättet"]
{"$rows_empty":20}
[{"$f":"A1","v":"n/min-1"},{"$f":"IF(C1=\"\",\"\",C1)","v":3000},{"$f":"IF(D1=\"\",\"\",D1)","v":4000},{"$f":"IF(E1=\"\",\"\",E1)","v":4500},{"$f":"IF(F1=\"\",\"\",F1)","v":5000},{"$f":"IF(G1=\"\",\"\",G1)","v":5500},{"$f":"IF(H1=\"\",\"\",H1)","v":6000},{"$f":"IF(I1=\"\",\"\",I1)","v":6500},{"$f":"IF(J1=\"\",\"\",J1)","v":7000},{"$f":"IF(K1=\"\",\"\",K1)","v":7500},{"$f":"IF(L1=\"\",\"\",L1)","v":8000},{"$f":"IF(M1=\"\",\"\",M1)","v":8500}]
["M/Nm",{"$f":"IF(B28=\"\",\"\",C4)","v":{"v":35.0166666666667,"d":"35.0"}},{"$f":"IF(C28=\"\",\"\",D4)","v":{"v":47.75,"d":"47.8"}},{"$f":"IF(D28=\"\",\"\",E4)","v":{"v":53.0555555555556,"d":"53.1"}},{"$f":"IF(E28=\"\",\"\",F4)","v":57.3},{"$f":"IF(F28=\"\",\"\",G4)","v":{"v":60.7727272727273,"d":"60.8"}},{"$f":"IF(G28=\"\",\"\",H4)","v":{"v":62.075,"d":"62.1"}},{"$f":"IF(H28=\"\",\"\",I4)","v":{"v":61.7076923076923,"d":"61.7"}},{"$f":"IF(I28=\"\",\"\",J4)","v":{"v":59.3464285714286,"d":"59.3"}},{"$f":"IF(J28=\"\",\"\",K4)","v":{"v":54.7533333333333,"d":"54.8"}},{"$f":"IF(K28=\"\",\"\",L4)","v":{"v":47.75,"d":"47.8"}},{"$f":"IF(L28=\"\",\"\",M4)","v":38.2}]
["P/kW",{"$f":"IF(B29=\"\",\"\",C5)","v":{"v":11,"d":"11.0"}},{"$f":"IF(C29=\"\",\"\",D5)","v":{"v":20,"d":"20.0"}},{"$f":"IF(D29=\"\",\"\",E5)","v":{"v":25,"d":"25.0"}},{"$f":"IF(E29=\"\",\"\",F5)","v":{"v":30,"d":"30.0"}},{"$f":"IF(F29=\"\",\"\",G5)","v":{"v":35,"d":"35.0"}},{"$f":"IF(G29=\"\",\"\",H5)","v":{"v":39,"d":"39.0"}},{"$f":"IF(H29=\"\",\"\",I5)","v":{"v":42,"d":"42.0"}},{"$f":"IF(I29=\"\",\"\",J5)","v":43.5},{"$f":"IF(J29=\"\",\"\",K5)","v":{"v":43,"d":"43.0"}},{"$f":"IF(K29=\"\",\"\",L5)","v":{"v":40,"d":"40.0"}},{"$f":"IF(L29=\"\",\"\",M5)","v":{"v":34,"d":"34.0"}}]
["P/PS",{"$f":"IF(B30=\"\",\"\",C6)","v":{"v":14.96,"d":"15.0"}},{"$f":"IF(C30=\"\",\"\",D6)","v":27.2},{"$f":"IF(D30=\"\",\"\",E6)","v":{"v":34,"d":"34.0"}},{"$f":"IF(E30=\"\",\"\",F6)","v":40.8},{"$f":"IF(F30=\"\",\"\",G6)","v":47.6},{"$f":"IF(G30=\"\",\"\",H6)","v":{"v":53.04,"d":"53.0"}},{"$f":"IF(H30=\"\",\"\",I6)","v":{"v":57.12,"d":"57.1"}},{"$f":"IF(I30=\"\",\"\",J6)","v":{"v":59.16,"d":"59.2"}},{"$f":"IF(J30=\"\",\"\",K6)","v":{"v":58.48,"d":"58.5"}},{"$f":"IF(K30=\"\",\"\",L6)","v":54.4},{"$f":"IF(L30=\"\",\"\",M6)","v":{"v":46.24,"d":"46.2"}}]

{"sheet":"Getriebe- u. Zugkraftdiagramm","index":1,"n_rows":164,"n_cols":16,"rows_kept":164,"merged":[[0,0,0,13],[1,0,1,7],[1,8,1,13],[2,3,2,4],[2,6,2,7],[2,11,2,12],[3,3,3,4],[3,6,3,7],[3,11,3,12],[5,0,6,1],[5,12,6,13],[7,0,7,1],[7,2,7,3],[7,12,7,13],[13,14,13,15],[14,14,14,15],[15,14,15,15],[16,14,16,15],[17,14,17,15],[18,14,18,15],[19,14,19,15],[20,14,20,15],[21,14,21,15],[22,14,22,15],[23,14,23,15],[24,14,24,15],[66,2,66,4],[67,2,67,4],[68,2,68,4],[71,3,71,4],[72,3,72,4],[73,3,73,4],[74,3,74,4],[75,3,75,4],[76,3,76,4],[77,3,77,4],[78,3,78,4],[79,3,79,4],[80,3,80,4],[81,3,81,4],[82,3,82,4],[83,3,83,4],[84,3,84,4],[85,3,85,4],[86,3,86,4],[87,3,87,4],[97,0,97,1],[98,0,98,1],[99,0,99,1],[100,0,100,1],[101,0,101,1],[102,0,102,1],[103,0,103,1],[104,0,104,1],[105,0,105,1],[106,0,106,1],[107,0,107,1],[108,0,108,1],[109,0,109,1],[110,0,110,1],[112,5,112,6],[122,0,132,1],[133,0,142,1],[143,0,143,1],[145,0,154,1]]}
[{"$f":"'Leistung u. Drehmoment'!A7","v":"KTM LC4 640, Bj 2001\nAkrapovich Titan, Mikuni TM 42, Kanäle geglättet"}]
["Reifen",{"$nulls":7},"Fahrzeug"]
["Breite\nmm","Quer-\nschnitt","Felge\nZoll","Auto/\nMotorrad",null,"Udyn\nm","Rollwider-\nstandszahl",null,"Masse\nkg","Breite\nm","Höhe\nm","Stirnfläche\nm²",null,"cW"]
[160,60,17,"M",null,{"$f":"IF(D4=\"M\",(C4*25.4+2*B4/100*A4)*PI()*0.961/1000,(C4*25.4+2*B4/100*A4)*PI()*0.97129/1000)","v":{"v":1.88329620291425,"d":"1.883"}},0.011,null,225,0.8,1.7,{"$f":"ROUND(J4*K4*0.83,2)","v":1.13},null,0.45]
[]
["Übersetzungen",null,"zRitzel","zKettenrad","iPrimär","1.","2.","3.","4.","5.","6.","7.","Schaltdrehzahl\nmin-1"]
[null,null,17,42,{"$f":"81/30","v":{"v":2.7,"d":"2.70"}},{"$f":"35/14","v":{"v":2.5,"d":"2.50"}},{"$f":"24/15","v":{"v":1.6,"d":"1.60"}},{"$f":"21/18","v":{"v":1.16666666666667,"d":"1.17"}},{"$f":"19/20","v":0.95},{"v":0.818181818181818,"d":"0.82"}]
["Wirkungsgrad",null,0.95,null,{"v":1,"d":"1.00"},0.97,0.97,0.97,0.97,0.97,null,null,8500]
[]
[]
[{"$nulls":14},1.15,1.02]
[{"$nulls":15},1.04]
[]
[{"$nulls":14},"Fahrwider-\nstands-\nparabeln"]
[{"$nulls":14},"j"]
[{"$nulls":14},{"v":99.99,"d":"9999 %"}]
[{"$nulls":14},{"v":1.9,"d":"190 %"}]
[{"$nulls":14},{"v":1,"d":"100 %"}]
[{"$nulls":14},{"v":0.74,"d":"74 %"}]
[{"$nulls":14},{"v":0.47,"d":"47 %"}]
[{"$nulls":14},{"v":0.33,"d":"33 %"}]
[{"$nulls":14},{"v":0.05,"d":"5 %"}]
[{"$nulls":14},{"v":0,"d":"0 %"}]
[{"$nulls":14},{"v":-0.05,"d":"-5 %"}]
[{"$nulls":14},{"v":0.1,"d":"10 %"}]
[]
[{"$nulls":14},"Gang","VSchalt"]
[{"$nulls":14},"1."]
[{"$nulls":14},"2.",86]
[{"$nulls":14},"3.",113]
[{"$nulls":14},"4.",136]
[{"$nulls":14},"5."]
[{"$nulls":14},"6."]
[{"$nulls":14},"7."]
{"$rows_empty":32}
[null,null,"Gang",null,null,1,2,3,4,5,6,7]
[null,null,"Schaltdrehzahl, optimal",null,null,{"$f":"IF(F69=\"\",\"\",F69*($D$7/$C$7*$E$7*F7*60)/(3.6*$F$4))","v":8500},{"$f":"IF(G69=\"\",\"\",G69*($D$7/$C$7*$E$7*G7*60)/(3.6*$F$4))","v":{"v":8122.92953666499,"d":"8123"}},{"$f":"IF(H69=\"\",\"\",H69*($D$7/$C$7*$E$7*H7*60)/(3.6*$F$4))","v":{"v":7782.5063753658,"d":"7783"}},{"$f":"IF(I69=\"\",\"\",I69*($D$7/$C$7*$E$7*I7*60)/(3.6*$F$4))","v":{"v":7627.0530242523,"d":"7627"}},{"$f":"IF(J69=\"\",\"\",J69*($D$7/$C$7*$E$7*J7*60)/(3.6*$F$4))","v":8500},{"$f":"IF(K69=\"\",\"\",K69*($D$7/$C$7*$E$7*K7*60)/(3.6*$F$4))","v":""},{"$f":"IF(L69=\"\",\"\",L69*($D$7/$C$7*$E$7*L7*60)/(3.6*$F$4))","v":""}]
[null,null,"Geschwindigkeit",null,null,{"$f":"IF(P28=\"\",E114,P28)","v":{"v":57.5949844065839,"d":"58"}},{"$f":"IF(P29=\"\",E115,P29)","v":86},{"$f":"IF(P30=\"\",E116,P30)","v":113},{"$f":"IF(P31=\"\",E117,P31)","v":136},{"$f":"IF(P32=\"\",E118,P32)","v":{"v":175.984674575673,"d":"176"}},{"$f":"IF(P33=\"\",E119,P33)","v":""},{"$f":"IF(P34=\"\",E120,P34)","v":""}]
[]
[]
[null,"Hub\nmm","VKolben\nm/s","Drehzahl\nmin-1",null,"V1.\nkm/h","V2.\nkm/h","V3.\nkm/h","V4.\nkm/h","V5.\nkm/h","V6.\nkm/h","V7.\nkm/h"]
[null,75,30,{"$f":"C73/B$73*30000","v":12000},null,{"$f":"IF(F$7=\"\",\"\",$F$4*3.6/($D$7/$C$7*$E$7)/F$7*$D73/60)","v":{"v":81.3105662210597,"d":"81"}},{"$f":"IF(G$7=\"\",\"\",$F$4*3.6/($D$7/$C$7*$E$7)/G$7*$D73/60)","v":{"v":127.047759720406,"d":"127"}},{"$f":"IF(H$7=\"\",\"\",$F$4*3.6/($D$7/$C$7*$E$7)/H$7*$D73/60)","v":{"v":174.236927616556,"d":"174"}},{"$f":"IF(I$7=\"\",\"\",$F$4*3.6/($D$7/$C$7*$E$7)/I$7*$D73/60)","v":{"v":213.975174265947,"d":"214"}},{"$f":"IF(J$7=\"\",\"\",$F$4*3.6/($D$7/$C$7*$E$7)/J$7*$D73/60)","v":{"v":248.448952342127,"d":"248"}},{"$f":"IF(K$7=\"\",\"\",$F$4*3.6/($D$7/$C$7*$E$7)/K$7*$D73/60)","v":""},{"$f":"IF(L$7=\"\",\"\",$F$4*3.6/($D$7/$C$7*$E$7)/L$7*$D73/60)","v":""}]
[null,null,29,{"$f":"C74/B$73*30000","v":11600},null,{"$f":"IF(F$7=\"\",\"\",$F$4*3.6/($D$7/$C$7*$E$7)/F$7*$D74/60)","v":{"v":78.600214013691,"d":"79"}},{"$f":"IF(G$7=\"\",\"\",$F$4*3.6/($D$7/$C$7*$E$7)/G$7*$D74/60)","v":{"v":122.812834396392,"d":"123"}},{"$f":"IF(H$7=\"\",\"\",$F$4*3.6/($D$7/$C$7*$E$7)/H$7*$D74/60)","v":{"v":168.429030029338,"d":"168"}},{"$f":"IF(I$7=\"\",\"\",$F$4*3.6/($D$7/$C$7*$E$7)/I$7*$D74/60)","v":{"v":206.842668457082,"d":"207"}},{"$f":"IF(J$7=\"\",\"\",$F$4*3.6/($D$7/$C$7*$E$7)/J$7*$D74/60)","v":{"v":240.167320597389,"d":"240"}},{"$f":"IF(K$7=\"\",\"\",$F$4*3.6/($D$7/$C$7*$E$7)/K$7*$D74/60)","v":""},{"$f":"IF(L$7=\"\",\"\",$F$4*3.6/($D$7/$C$7*$E$7)/L$7*$D74/60)","v":""}]
[null,null,28,{"$f":"C75/B$73*30000","v":11200},null,{"$f":"IF(F$7=\"\",\"\",$F$4*3.6/($D$7/$C$7*$E$7)/F$7*$D75/60)","v":{"v":75.8898618063223,"d":"76"}},{"$f":"IF(G$7=\"\",\"\",$F$4*3.6/($D$7/$C$7*$E$7)/G$7*$D75/60)","v":{"v":118.577909072379,"d":"119"}},{"$f":"IF(H$7=\"\",\"\",$F$4*3.6/($D$7/$C$7*$E$7)/H$7*$D75/60)","v":{"v":162.621132442119,"d":"163"}},{"$f":"IF(I$7=\"\",\"\",$F$4*3.6/($D$7/$C$7*$E$7)/I$7*$D75/60)","v":{"v":199.710162648217,"d":"200"}},{"$f":"IF(J$7=\"\",\"\",$F$4*3.6/($D$7/$C$7*$E$7)/J$7*$D75/60)","v":{"v":231.885688852652,"d":"232"}},{"$f":"IF(K$7=\"\",\"\",$F$4*3.6/($D$7/$C$7*$E$7)/K$7*$D75/60)","v":""},{"$f":"IF(L$7=\"\",\"\",$F$4*3.6/($D$7/$C$7*$E$7)/L$7*$D75/60)","v":""}]
[null,null,27,{"$f":"C76/B$73*30000","v":10800},null,{"$f":"IF(F$7=\"\",\"\",$F$4*3.6/($D$7/$C$7*$E$7)/F$7*$D76/60)","v":{"v":73.1795095989537,"d":"73"}},{"$f":"IF(G$7=\"\",\"\",$F$4*3.6/($D$7/$C$7*$E$7)/G$7*$D76/60)","v":{"v":114.342983748365,"d":"114"}},{"$f":"IF(H$7=\"\",\"\",$F$4*3.6/($D$7/$C$7*$E$7)/H$7*$D76/60)","v":{"v":156.813234854901,"d":"157"}},{"$f":"IF(I$7=\"\",\"\",$F$4*3.6/($D$7/$C$7*$E$7)/I$7*$D76/60)","v":{"v":192.577656839352,"d":"193"}},{"$f":"IF(J$7=\"\",\"\",$F$4*3.6/($D$7/$C$7*$E$7)/J$7*$D76/60)","v":{"v":223.604057107914,"d":"224"}},{"$f":"IF(K$7=\"\",\"\",$F$4*3.6/($D$7/$C$7*$E$7)/K$7*$D76/60)","v":""},{"$f":"IF(L$7=\"\",\"\",$F$4*3.6/($D$7/$C$7*$E$7)/L$7*$D76/60)","v":""}]
[null,null,26,{"$f":"C77/B$73*30000","v":10400},null,{"$f":"IF(F$7=\"\",\"\",$F$4*3.6/($D$7/$C$7*$E$7)/F$7*$D77/60)","v":{"v":70.469157391585,"d":"70"}},{"$f":"IF(G$7=\"\",\"\",$F$4*3.6/($D$7/$C$7*$E$7)/G$7*$D77/60)","v":{"v":110.108058424352,"d":"110"}},{"$f":"IF(H$7=\"\",\"\",$F$4*3.6/($D$7/$C$7*$E$7)/H$7*$D77/60)","v":{"v":151.005337267682,"d":"151"}},{"$f":"IF(I$7=\"\",\"\",$F$4*3.6/($D$7/$C$7*$E$7)/I$7*$D77/60)","v":{"v":185.445151030487,"d":"185"}},{"$f":"IF(J$7=\"\",\"\",$F$4*3.6/($D$7/$C$7*$E$7)/J$7*$D77/60)","v":{"v":215.322425363176,"d":"215"}},{"$f":"IF(K$7=\"\",\"\",$F$4*3.6/($D$7/$C$7*$E$7)/K$7*$D77/60)","v":""},{"$f":"IF(L$7=\"\",\"\",$F$4*3.6/($D$7/$C$7*$E$7)/L$7*$D77/60)","v":""}]
[null,null,25,{"$f":"C78/B$73*30000","v":10000},null,{"$f":"IF(F$7=\"\",\"\",$F$4*3.6/($D$7/$C$7*$E$7)/F$7*$D78/60)","v":{"v":67.7588051842164,"d":"68"}},{"$f":"IF(G$7=\"\",\"\",$F$4*3.6/($D$7/$C$7*$E$7)/G$7*$D78/60)","v":{"v":105.873133100338,"d":"106"}},{"$f":"IF(H$7=\"\",\"\",$F$4*3.6/($D$7/$C$7*$E$7)/H$7*$D78/60)","v":{"v":145.197439680464,"d":"145"}},{"$f":"IF(I$7=\"\",\"\",$F$4*3.6/($D$7/$C$7*$E$7)/I$7*$D78/60)","v":{"v":178.312645221622,"d":"178"}},{"$f":"IF(J$7=\"\",\"\",$F$4*3.6/($D$7/$C$7*$E$7)/J$7*$D78/60)","v":{"v":207.040793618439,"d":"207"}},{"$f":"IF(K$7=\"\",\"\",$F$4*3.6/($D$7/$C$7*$E$7)/K$7*$D78/60)","v":""},{"$f":"IF(L$7=\"\",\"\",$F$4*3.6/($D$7/$C$7*$E$7)/L$7*$D78/60)","v":""}]
[null,null,24,{"$f":"C79/B$73*30000","v":9600},null,{"$f":"IF(F$7=\"\",\"\",$F$4*3.6/($D$7/$C$7*$E$7)/F$7*$D79/60)","v":{"v":65.0484529768477,"d":"65"}},{"$f":"IF(G$7=\"\",\"\",$F$4*3.6/($D$7/$C$7*$E$7)/G$7*$D79/60)","v":{"v":101.638207776325,"d":"102"}},{"$f":"IF(H$7=\"\",\"\",$F$4*3.6/($D$7/$C$7*$E$7)/H$7*$D79/60)","v":{"v":139.389542093245,"d":"139"}},{"$f":"IF(I$7=\"\",\"\",$F$4*3.6/($D$7/$C$7*$E$7)/I$7*$D79/60)","v":{"v":171.180139412757,"d":"171"}},{"$f":"IF(J$7=\"\",\"\",$F$4*3.6/($D$7/$C$7*$E$7)/J$7*$D79/60)","v":{"v":198.759161873701,"d":"199"}},{"$f":"IF(K$7=\"\",\"\",$F$4*3.6/($D$7/$C$7*$E$7)/K$7*$D79/60)","v":""},{"$f":"IF(L$7=\"\",\"\",$F$4*3.6/($D$7/$C$7*$E$7)/L$7*$D79/60)","v":""}]
[null,null,23,{"$f":"C80/B$73*30000","v":9200},null,{"$f":"IF(F$7=\"\",\"\",$F$4*3.6/($D$7/$C$7*$E$7)/F$7*$D80/60)","v":{"v":62.3381007694791,"d":"62"}},{"$f":"IF(G$7=\"\",\"\",$F$4*3.6/($D$7/$C$7*$E$7)/G$7*$D80/60)","v":{"v":97.4032824523111,"d":"97"}},{"$f":"IF(H$7=\"\",\"\",$F$4*3.6/($D$7/$C$7*$E$7)/H$7*$D80/60)","v":{"v":133.581644506027,"d":"134"}},{"$f":"IF(I$7=\"\",\"\",$F$4*3.6/($D$7/$C$7*$E$7)/I$7*$D80/60)","v":{"v":164.047633603892,"d":"164"}},{"$f":"IF(J$7=\"\",\"\",$F$4*3.6/($D$7/$C$7*$E$7)/J$7*$D80/60)","v":{"v":190.477530128964,"d":"190"}},{"$f":"IF(K$7=\"\",\"\",$F$4*3.6/($D$7/$C$7*$E$7)/K$7*$D80/60)","v":""},{"$f":"IF(L$7=\"\",\"\",$F$4*3.6/($D$7/$C$7*$E$7)/L$7*$D80/60)","v":""}]
[null,null,22,{"$f":"C81/B$73*30000","v":8800},null,{"$f":"IF(F$7=\"\",\"\",$F$4*3.6/($D$7/$C$7*$E$7)/F$7*$D81/60)","v":{"v":59.6277485621104,"d":"60"}},{"$f":"IF(G$7=\"\",\"\",$F$4*3.6/($D$7/$C$7*$E$7)/G$7*$D81/60)","v":{"v":93.1683571282975,"d":"93"}},{"$f":"IF(H$7=\"\",\"\",$F$4*3.6/($D$7/$C$7*$E$7)/H$7*$D81/60)","v":{"v":127.773746918808,"d":"128"}},{"$f":"IF(I$7=\"\",\"\",$F$4*3.6/($D$7/$C$7*$E$7)/I$7*$D81/60)","v":{"v":156.915127795027,"d":"157"}},{"$f":"IF(J$7=\"\",\"\",$F$4*3.6/($D$7/$C$7*$E$7)/J$7*$D81/60)","v":{"v":182.195898384226,"d":"182"}},{"$f":"IF(K$7=\"\",\"\",$F$4*3.6/($D$7/$C$7*$E$7)/K$7*$D81/60)","v":""},{"$f":"IF(L$7=\"\",\"\",$F$4*3.6/($D$7/$C$7*$E$7)/L$7*$D81/60)","v":""}]
[null,null,21,{"$f":"C82/B$73*30000","v":8400},null,{"$f":"IF(F$7=\"\",\"\",$F$4*3.6/($D$7/$C$7*$E$7)/F$7*$D82/60)","v":{"v":56.9173963547418,"d":"57"}},{"$f":"IF(G$7=\"\",\"\",$F$4*3.6/($D$7/$C$7*$E$7)/G$7*$D82/60)","v":{"v":88.933431804284,"d":"89"}},{"$f":"IF(H$7=\"\",\"\",$F$4*3.6/($D$7/$C$7*$E$7)/H$7*$D82/60)","v":{"v":121.965849331589,"d":"122"}},{"$f":"IF(I$7=\"\",\"\",$F$4*3.6/($D$7/$C$7*$E$7)/I$7*$D82/60)","v":{"v":149.782621986163,"d":"150"}},{"$f":"IF(J$7=\"\",\"\",$F$4*3.6/($D$7/$C$7*$E$7)/J$7*$D82/60)","v":{"v":173.914266639489,"d":"174"}},{"$f":"IF(K$7=\"\",\"\",$F$4*3.6/($D$7/$C$7*$E$7)/K$7*$D82/60)","v":""},{"$f":"IF(L$7=\"\",\"\",$F$4*3.6/($D$7/$C$7*$E$7)/L$7*$D82/60)","v":""}]
[null,null,20,{"$f":"C83/B$73*30000","v":8000},null,{"$f":"IF(F$7=\"\",\"\",$F$4*3.6/($D$7/$C$7*$E$7)/F$7*$D83/60)","v":{"v":54.2070441473731,"d":"54"}},{"$f":"IF(G$7=\"\",\"\",$F$4*3.6/($D$7/$C$7*$E$7)/G$7*$D83/60)","v":{"v":84.6985064802705,"d":"85"}},{"$f":"IF(H$7=\"\",\"\",$F$4*3.6/($D$7/$C$7*$E$7)/H$7*$D83/60)","v":{"v":116.157951744371,"d":"116"}},{"$f":"IF(I$7=\"\",\"\",$F$4*3.6/($D$7/$C$7*$E$7)/I$7*$D83/60)","v":{"v":142.650116177298,"d":"143"}},{"$f":"IF(J$7=\"\",\"\",$F$4*3.6/($D$7/$C$7*$E$7)/J$7*$D83/60)","v":{"v":165.632634894751,"d":"166"}},{"$f":"IF(K$7=\"\",\"\",$F$4*3.6/($D$7/$C$7*$E$7)/K$7*$D83/60)","v":""},{"$f":"IF(L$7=\"\",\"\",$F$4*3.6/($D$7/$C$7*$E$7)/L$7*$D83/60)","v":""}]
[null,null,19,{"$f":"C84/B$73*30000","v":7600},null,{"$f":"IF(F$7=\"\",\"\",$F$4*3.6/($D$7/$C$7*$E$7)/F$7*$D84/60)","v":{"v":51.4966919400045,"d":"51"}},{"$f":"IF(G$7=\"\",\"\",$F$4*3.6/($D$7/$C$7*$E$7)/G$7*$D84/60)","v":{"v":80.463581156257,"d":"80"}},{"$f":"IF(H$7=\"\",\"\",$F$4*3.6/($D$7/$C$7*$E$7)/H$7*$D84/60)","v":{"v":110.350054157152,"d":"110"}},{"$f":"IF(I$7=\"\",\"\",$F$4*3.6/($D$7/$C$7*$E$7)/I$7*$D84/60)","v":{"v":135.517610368433,"d":"136"}},{"$f":"IF(J$7=\"\",\"\",$F$4*3.6/($D$7/$C$7*$E$7)/J$7*$D84/60)","v":{"v":157.351003150014,"d":"157"}},{"$f":"IF(K$7=\"\",\"\",$F$4*3.6/($D$7/$C$7*$E$7)/K$7*$D84/60)","v":""},{"$f":"IF(L$7=\"\",\"\",$F$4*3.6/($D$7/$C$7*$E$7)/L$7*$D84/60)","v":""}]
[null,null,18,{"$f":"C85/B$73*30000","v":7200},null,{"$f":"IF(F$7=\"\",\"\",$F$4*3.6/($D$7/$C$7*$E$7)/F$7*$D85/60)","v":{"v":48.7863397326358,"d":"49"}},{"$f":"IF(G$7=\"\",\"\",$F$4*3.6/($D$7/$C$7*$E$7)/G$7*$D85/60)","v":{"v":76.2286558322434,"d":"76"}},{"$f":"IF(H$7=\"\",\"\",$F$4*3.6/($D$7/$C$7*$E$7)/H$7*$D85/60)","v":{"v":104.542156569934,"d":"105"}},{"$f":"IF(I$7=\"\",\"\",$F$4*3.6/($D$7/$C$7*$E$7)/I$7*$D85/60)","v":{"v":128.385104559568,"d":"128"}},{"$f":"IF(J$7=\"\",\"\",$F$4*3.6/($D$7/$C$7*$E$7)/J$7*$D85/60)","v":{"v":149.069371405276,"d":"149"}},{"$f":"IF(K$7=\"\",\"\",$F$4*3.6/($D$7/$C$7*$E$7)/K$7*$D85/60)","v":""},{"$f":"IF(L$7=\"\",\"\",$F$4*3.6/($D$7/$C$7*$E$7)/L$7*$D85/60)","v":""}]
[null,null,17,{"$f":"C86/B$73*30000","v":6800},null,{"$f":"IF(F$7=\"\",\"\",$F$4*3.6/($D$7/$C$7*$E$7)/F$7*$D86/60)","v":{"v":46.0759875252671,"d":"46"}},{"$f":"IF(G$7=\"\",\"\",$F$4*3.6/($D$7/$C$7*$E$7)/G$7*$D86/60)","v":{"v":71.9937305082299,"d":"72"}},{"$f":"IF(H$7=\"\",\"\",$F$4*3.6/($D$7/$C$7*$E$7)/H$7*$D86/60)","v":{"v":98.7342589827153,"d":"99"}},{"$f":"IF(I$7=\"\",\"\",$F$4*3.6/($D$7/$C$7*$E$7)/I$7*$D86/60)","v":{"v":121.252598750703,"d":"121"}},{"$f":"IF(J$7=\"\",\"\",$F$4*3.6/($D$7/$C$7*$E$7)/J$7*$D86/60)","v":{"v":140.787739660538,"d":"141"}},{"$f":"IF(K$7=\"\",\"\",$F$4*3.6/($D$7/$C$7*$E$7)/K$7*$D86/60)","v":""},{"$f":"IF(L$7=\"\",\"\",$F$4*3.6/($D$7/$C$7*$E$7)/L$7*$D86/60)","v":""}]
[null,null,16,{"$f":"C87/B$73*30000","v":6400},null,{"$f":"IF(F$7=\"\",\"\",$F$4*3.6/($D$7/$C$7*$E$7)/F$7*$D87/60)","v":{"v":43.3656353178985,"d":"43"}},{"$f":"IF(G$7=\"\",\"\",$F$4*3.6/($D$7/$C$7*$E$7)/G$7*$D87/60)","v":{"v":67.7588051842164,"d":"68"}},{"$f":"IF(H$7=\"\",\"\",$F$4*3.6/($D$7/$C$7*$E$7)/H$7*$D87/60)","v":{"v":92.9263613954968,"d":"93"}},{"$f":"IF(I$7=\"\",\"\",$F$4*3.6/($D$7/$C$7*$E$7)/I$7*$D87/60)","v":{"v":114.120092941838,"d":"114"}},{"$f":"IF(J$7=\"\",\"\",$F$4*3.6/($D$7/$C$7*$E$7)/J$7*$D87/60)","v":{"v":132.506107915801,"d":"133"}},{"$f":"IF(K$7=\"\",\"\",$F$4*3.6/($D$7/$C$7*$E$7)/K$7*$D87/60)","v":""},{"$f":"IF(L$7=\"\",\"\",$F$4*3.6/($D$7/$C$7*$E$7)/L$7*$D87/60)","v":""}]
[null,null,15,{"$f":"C88/B$73*30000","v":6000},null,{"$f":"IF(F$7=\"\",\"\",$F$4*3.6/($D$7/$C$7*$E$7)/F$7*$D88/60)","v":{"v":40.6552831105298,"d":"41"}},{"$f":"IF(G$7=\"\",\"\",$F$4*3.6/($D$7/$C$7*$E$7)/G$7*$D88/60)","v":{"v":63.5238798602029,"d":"64"}},{"$f":"IF(H$7=\"\",\"\",$F$4*3.6/($D$7/$C$7*$E$7)/H$7*$D88/60)","v":{"v":87.1184638082782,"d":"87"}},{"$f":"IF(I$7=\"\",\"\",$F$4*3.6/($D$7/$C$7*$E$7)/I$7*$D88/60)","v":{"v":106.987587132973,"d":"107"}},{"$f":"IF(J$7=\"\",\"\",$F$4*3.6/($D$7/$C$7*$E$7)/J$7*$D88/60)","v":{"v":124.224476171063,"d":"124"}},{"$f":"IF(K$7=\"\",\"\",$F$4*3.6/($D$7/$C$7*$E$7)/K$7*$D88/60)","v":""},{"$f":"IF(L$7=\"\",\"\",$F$4*3.6/($D$7/$C$7*$E$7)/L$7*$D88/60)","v":""}]
{"$rows_empty":9}
["V1",null,{"$f":"IF('Leistung u. Drehmoment'!C1=\"\",0,IF(($F$7<=0),0,(3.6*$F$4*'Leistung u. Drehmoment'!C$1/($D$7/$C$7*$E$7*$F$7*60))))","v":{"v":20.3276415552649,"d":"20"}},{"$f":"IF('Leistung u. Drehmoment'!D1=\"\",C98,IF(($F$7<=0),0,(3.6*$F$4*'Leistung u. Drehmoment'!D$1/($D$7/$C$7*$E$7*$F$7*60))))","v":{"v":27.1035220736866,"d":"27"}},{"$f":"IF('Leistung u. Drehmoment'!E1=\"\",D98,IF(($F$7<=0),0,(3.6*$F$4*'Leistung u. Drehmoment'!E$1/($D$7/$C$7*$E$7*$F$7*60))))","v":{"v":30.4914623328974,"d":"30"}},{"$f":"IF('Leistung u. Drehmoment'!F1=\"\",E98,IF(($F$7<=0),0,(3.6*$F$4*'Leistung u. Drehmoment'!F$1/($D$7/$C$7*$E$7*$F$7*60))))","v":{"v":33.8794025921082,"d":"34"}},{"$f":"IF('Leistung u. Drehmoment'!G1=\"\",F98,IF(($F$7<=0),0,(3.6*$F$4*'Leistung u. Drehmoment'!G$1/($D$7/$C$7*$E$7*$F$7*60))))","v":{"v":37.267342851319,"d":"37"}},{"$f":"IF('Leistung u. Drehmoment'!H1=\"\",G98,IF(($F$7<=0),0,(3.6*$F$4*'Leistung u. Drehmoment'!H$1/($D$7/$C$7*$E$7*$F$7*60))))","v":{"v":40.6552831105298,"d":"41"}},{"$f":"IF('Leistung u. Drehmoment'!I1=\"\",H98,IF(($F$7<=0),0,(3.6*$F$4*'Leistung u. Drehmoment'!I$1/($D$7/$C$7*$E$7*$F$7*60))))","v":{"v":44.0432233697407,"d":"44"}},{"$f":"IF('Leistung u. Drehmoment'!J1=\"\",I98,IF(($F$7<=0),0,(3.6*$F$4*'Leistung u. Drehmoment'!J$1/($D$7/$C$7*$E$7*$F$7*60))))","v":{"v":47.4311636289515,"d":"47"}},{"$f":"IF('Leistung u. Drehmoment'!K1=\"\",J98,IF(($F$7<=0),0,(3.6*$F$4*'Leistung u. Drehmoment'!K$1/($D$7/$C$7*$E$7*$F$7*60))))","v":{"v":50.8191038881623,"d":"51"}},{"$f":"IF('Leistung u. Drehmoment'!L1=\"\",K98,IF(($F$7<=0),0,(3.6*$F$4*'Leistung u. Drehmoment'!L$1/($D$7/$C$7*$E$7*$F$7*60))))","v":{"v":54.2070441473731,"d":"54"}},{"$f":"IF('Leistung u. Drehmoment'!M1=\"\",L98,IF(($F$7<=0),0,(3.6*$F$4*'Leistung u. Drehmoment'!M$1/($D$7/$C$7*$E$7*$F$7*60))))","v":{"v":57.5949844065839,"d":"58"}}]
["F1",null,{"$f":"IF('Leistung u. Drehmoment'!C1=\"\",0,IF(($F$7=0),0,('Leistung u. Drehmoment'!C$4*$D$7/$C$7*$E$7*$F$7*$C$8*$E$8*$F$8/($F$4/2/PI()))))","v":{"v":1795.29375840924,"d":"1795"}},{"$f":"IF('Leistung u. Drehmoment'!D1=\"\",C99,IF(($F$7=0),0,('Leistung u. Drehmoment'!D$4*$D$7/$C$7*$E$7*$F$7*$C$8*$E$8*$F$8/($F$4/2/PI()))))","v":{"v":2448.12785237624,"d":"2448"}},{"$f":"IF('Leistung u. Drehmoment'!E1=\"\",D99,IF(($F$7=0),0,('Leistung u. Drehmoment'!E$4*$D$7/$C$7*$E$7*$F$7*$C$8*$E$8*$F$8/($F$4/2/PI()))))","v":{"v":2720.14205819582,"d":"2720"}},{"$f":"IF('Leistung u. Drehmoment'!F1=\"\",E99,IF(($F$7=0),0,('Leistung u. Drehmoment'!F$4*$D$7/$C$7*$E$7*$F$7*$C$8*$E$8*$F$8/($F$4/2/PI()))))","v":{"v":2937.75342285149,"d":"2938"}},{"$f":"IF('Leistung u. Drehmoment'!G1=\"\",F99,IF(($F$7=0),0,('Leistung u. Drehmoment'!G$4*$D$7/$C$7*$E$7*$F$7*$C$8*$E$8*$F$8/($F$4/2/PI()))))","v":{"v":3115.79908484249,"d":"3116"}},{"$f":"IF('Leistung u. Drehmoment'!H1=\"\",G99,IF(($F$7=0),0,('Leistung u. Drehmoment'!H$4*$D$7/$C$7*$E$7*$F$7*$C$8*$E$8*$F$8/($F$4/2/PI()))))","v":{"v":3182.56620808911,"d":"3183"}},{"$f":"IF('Leistung u. Drehmoment'!I1=\"\",H99,IF(($F$7=0),0,('Leistung u. Drehmoment'!I$4*$D$7/$C$7*$E$7*$F$7*$C$8*$E$8*$F$8/($F$4/2/PI()))))","v":{"v":3163.73445537852,"d":"3164"}},{"$f":"IF('Leistung u. Drehmoment'!J1=\"\",I99,IF(($F$7=0),0,('Leistung u. Drehmoment'!J$4*$D$7/$C$7*$E$7*$F$7*$C$8*$E$8*$F$8/($F$4/2/PI()))))","v":{"v":3042.67318795332,"d":"3043"}},{"$f":"IF('Leistung u. Drehmoment'!K1=\"\",J99,IF(($F$7=0),0,('Leistung u. Drehmoment'!K$4*$D$7/$C$7*$E$7*$F$7*$C$8*$E$8*$F$8/($F$4/2/PI()))))","v":{"v":2807.18660405809,"d":"2807"}},{"$f":"IF('Leistung u. Drehmoment'!L1=\"\",K99,IF(($F$7=0),0,('Leistung u. Drehmoment'!L$4*$D$7/$C$7*$E$7*$F$7*$C$8*$E$8*$F$8/($F$4/2/PI()))))","v":{"v":2448.12785237624,"d":"2448"}},{"$f":"IF('Leistung u. Drehmoment'!M1=\"\",L99,IF(($F$7=0),0,('Leistung u. Drehmoment'!M$4*$D$7/$C$7*$E$7*$F$7*$C$8*$E$8*$F$8/($F$4/2/PI()))))","v":{"v":1958.50228190099,"d":"1959"}}]
["V2",null,{"$f":"IF('Leistung u. Drehmoment'!C1=\"\",0,IF(($G$7<=0),0,(3.6*$F$4*'Leistung u. Drehmoment'!C$1/($D$7/$C$7*$E$7*$G$7*60))))","v":{"v":31.7619399301014,"d":"32"}},{"$f":"IF('Leistung u. Drehmoment'!D1=\"\",C100,IF(($G$7<=0),0,(3.6*$F$4*'Leistung u. Drehmoment'!D$1/($D$7/$C$7*$E$7*$G$7*60))))","v":{"v":42.3492532401353,"d":"42"}},{"$f":"IF('Leistung u. Drehmoment'!E1=\"\",D100,IF(($G$7<=0),0,(3.6*$F$4*'Leistung u. Drehmoment'!E$1/($D$7/$C$7*$E$7*$G$7*60))))","v":{"v":47.6429098951522,"d":"48"}},{"$f":"IF('Leistung u. Drehmoment'!F1=\"\",E100,IF(($G$7<=0),0,(3.6*$F$4*'Leistung u. Drehmoment'!F$1/($D$7/$C$7*$E$7*$G$7*60))))","v":{"v":52.9365665501691,"d":"53"}},{"$f":"IF('Leistung u. Drehmoment'!G1=\"\",F100,IF(($G$7<=0),0,(3.6*$F$4*'Leistung u. Drehmoment'!G$1/($D$7/$C$7*$E$7*$G$7*60))))","v":{"v":58.230223205186,"d":"58"}},{"$f":"IF('Leistung u. Drehmoment'!H1=\"\",G100,IF(($G$7<=0),0,(3.6*$F$4*'Leistung u. Drehmoment'!H$1/($D$7/$C$7*$E$7*$G$7*60))))","v":{"v":63.5238798602029,"d":"64"}},{"$f":"IF('Leistung u. Drehmoment'!I1=\"\",H100,IF(($G$7<=0),0,(3.6*$F$4*'Leistung u. Drehmoment'!I$1/($D$7/$C$7*$E$7*$G$7*60))))","v":{"v":68.8175365152198,"d":"69"}},{"$f":"IF('Leistung u. Drehmoment'!J1=\"\",I100,IF(($G$7<=0),0,(3.6*$F$4*'Leistung u. Drehmoment'!J$1/($D$7/$C$7*$E$7*$G$7*60))))","v":{"v":74.1111931702367,"d":"74"}},{"$f":"IF('Leistung u. Drehmoment'!K1=\"\",J100,IF(($G$7<=0),0,(3.6*$F$4*'Leistung u. Drehmoment'!K$1/($D$7/$C$7*$E$7*$G$7*60))))","v":{"v":79.4048498252536,"d":"79"}},{"$f":"IF('Leistung u. Drehmoment'!L1=\"\",K100,IF(($G$7<=0),0,(3.6*$F$4*'Leistung u. Drehmoment'!L$1/($D$7/$C$7*$E$7*$G$7*60))))","v":{"v":84.6985064802705,"d":"85"}},{"$f":"IF('Leistung u. Drehmoment'!M1=\"\",L100,IF(($G$7<=0),0,(3.6*$F$4*'Leistung u. Drehmoment'!M$1/($D$7/$C$7*$E$7*$G$7*60))))","v":{"v":89.9921631352874,"d":"90"}}]
["F2",null,{"$f":"IF('Leistung u. Drehmoment'!C1=\"\",0,IF(($G$7=0),0,('Leistung u. Drehmoment'!C$4*$D$7/$C$7*$E$7*$G$7*$C$8*$E$8*$G$8/($F$4/2/PI()))))","v":{"v":1148.98800538191,"d":"1149"}},{"$f":"IF('Leistung u. Drehmoment'!D1=\"\",C101,IF(($G$7=0),0,('Leistung u. Drehmoment'!D$4*$D$7/$C$7*$E$7*$G$7*$C$8*$E$8*$G$8/($F$4/2/PI()))))","v":{"v":1566.80182552079,"d":"1567"}},{"$f":"IF('Leistung u. Drehmoment'!E1=\"\",D101,IF(($G$7=0),0,('Leistung u. Drehmoment'!E$4*$D$7/$C$7*$E$7*$G$7*$C$8*$E$8*$G$8/($F$4/2/PI()))))","v":{"v":1740.89091724533,"d":"1741"}},{"$f":"IF('Leistung u. Drehmoment'!F1=\"\",E101,IF(($G$7=0),0,('Leistung u. Drehmoment'!F$4*$D$7/$C$7*$E$7*$G$7*$C$8*$E$8*$G$8/($F$4/2/PI()))))","v":{"v":1880.16219062495,"d":"1880"}},{"$f":"IF('Leistung u. Drehmoment'!G1=\"\",F101,IF(($G$7=0),0,('Leistung u. Drehmoment'!G$4*$D$7/$C$7*$E$7*$G$7*$C$8*$E$8*$G$8/($F$4/2/PI()))))","v":{"v":1994.11141429919,"d":"1994"}},{"$f":"IF('Leistung u. Drehmoment'!H1=\"\",G101,IF(($G$7=0),0,('Leistung u. Drehmoment'!H$4*$D$7/$C$7*$E$7*$G$7*$C$8*$E$8*$G$8/($F$4/2/PI()))))","v":{"v":2036.84237317703,"d":"2037"}},{"$f":"IF('Leistung u. Drehmoment'!I1=\"\",H101,IF(($G$7=0),0,('Leistung u. Drehmoment'!I$4*$D$7/$C$7*$E$7*$G$7*$C$8*$E$8*$G$8/($F$4/2/PI()))))","v":{"v":2024.79005144226,"d":"2025"}},{"$f":"IF('Leistung u. Drehmoment'!J1=\"\",I101,IF(($G$7=0),0,('Leistung u. Drehmoment'!J$4*$D$7/$C$7*$E$7*$G$7*$C$8*$E$8*$G$8/($F$4/2/PI()))))","v":{"v":1947.31084029013,"d":"1947"}},{"$f":"IF('Leistung u. Drehmoment'!K1=\"\",J101,IF(($G$7=0),0,('Leistung u. Drehmoment'!K$4*$D$7/$C$7*$E$7*$G$7*$C$8*$E$8*$G$8/($F$4/2/PI()))))","v":{"v":1796.59942659718,"d":"1797"}},{"$f":"IF('Leistung u. Drehmoment'!L1=\"\",K101,IF(($G$7=0),0,('Leistung u. Drehmoment'!L$4*$D$7/$C$7*$E$7*$G$7*$C$8*$E$8*$G$8/($F$4/2/PI()))))","v":{"v":1566.80182552079,"d":"1567"}},{"$f":"IF('Leistung u. Drehmoment'!M1=\"\",L101,IF(($G$7=0),0,('Leistung u. Drehmoment'!M$4*$D$7/$C$7*$E$7*$G$7*$C$8*$E$8*$G$8/($F$4/2/PI()))))","v":{"v":1253.44146041663,"d":"1253"}}]
["V3",null,{"$f":"IF('Leistung u. Drehmoment'!C1=\"\",0,IF(($H$7<=0),0,(3.6*$F$4*'Leistung u. Drehmoment'!C$1/($D$7/$C$7*$E$7*$H$7*60))))","v":{"v":43.5592319041391,"d":"44"}},{"$f":"IF('Leistung u. Drehmoment'!D1=\"\",C102,IF(($H$7<=0),0,(3.6*$F$4*'Leistung u. Drehmoment'!D$1/($D$7/$C$7*$E$7*$H$7*60))))","v":{"v":58.0789758721855,"d":"58"}},{"$f":"IF('Leistung u. Drehmoment'!E1=\"\",D102,IF(($H$7<=0),0,(3.6*$F$4*'Leistung u. Drehmoment'!E$1/($D$7/$C$7*$E$7*$H$7*60))))","v":{"v":65.3388478562087,"d":"65"}},{"$f":"IF('Leistung u. Drehmoment'!F1=\"\",E102,IF(($H$7<=0),0,(3.6*$F$4*'Leistung u. Drehmoment'!F$1/($D$7/$C$7*$E$7*$H$7*60))))","v":{"v":72.5987198402318,"d":"73"}},{"$f":"IF('Leistung u. Drehmoment'!G1=\"\",F102,IF(($H$7<=0),0,(3.6*$F$4*'Leistung u. Drehmoment'!G$1/($D$7/$C$7*$E$7*$H$7*60))))","v":{"v":79.858591824255,"d":"80"}},{"$f":"IF('Leistung u. Drehmoment'!H1=\"\",G102,IF(($H$7<=0),0,(3.6*$F$4*'Leistung u. Drehmoment'!H$1/($D$7/$C$7*$E$7*$H$7*60))))","v":{"v":87.1184638082782,"d":"87"}},{"$f":"IF('Leistung u. Drehmoment'!I1=\"\",H102,IF(($H$7<=0),0,(3.6*$F$4*'Leistung u. Drehmoment'!I$1/($D$7/$C$7*$E$7*$H$7*60))))","v":{"v":94.3783357923014,"d":"94"}},{"$f":"IF('Leistung u. Drehmoment'!J1=\"\",I102,IF(($H$7<=0),0,(3.6*$F$4*'Leistung u. Drehmoment'!J$1/($D$7/$C$7*$E$7*$H$7*60))))","v":{"v":101.638207776325,"d":"102"}},{"$f":"IF('Leistung u. Drehmoment'!K1=\"\",J102,IF(($H$7<=0),0,(3.6*$F$4*'Leistung u. Drehmoment'!K$1/($D$7/$C$7*$E$7*$H$7*60))))","v":{"v":108.898079760348,"d":"109"}},{"$f":"IF('Leistung u. Drehmoment'!L1=\"\",K102,IF(($H$7<=0),0,(3.6*$F$4*'Leistung u. Drehmoment'!L$1/($D$7/$C$7*$E$7*$H$7*60))))","v":{"v":116.157951744371,"d":"116"}},{"$f":"IF('Leistung u. Drehmoment'!M1=\"\",L102,IF(($H$7<=0),0,(3.6*$F$4*'Leistung u. Drehmoment'!M$1/($D$7/$C$7*$E$7*$H$7*60))))","v":{"v":123.417823728394,"d":"123"}}]
["F3",null,{"$f":"IF('Leistung u. Drehmoment'!C1=\"\",0,IF(($H$7=0),0,('Leistung u. Drehmoment'!C$4*$D$7/$C$7*$E$7*$H$7*$C$8*$E$8*$H$8/($F$4/2/PI()))))","v":{"v":837.803753924313,"d":"838"}},{"$f":"IF('Leistung u. Drehmoment'!D1=\"\",C103,IF(($H$7=0),0,('Leistung u. Drehmoment'!D$4*$D$7/$C$7*$E$7*$H$7*$C$8*$E$8*$H$8/($F$4/2/PI()))))","v":{"v":1142.45966444224,"d":"1142"}},{"$f":"IF('Leistung u. Drehmoment'!E1=\"\",D103,IF(($H$7=0),0,('Leistung u. Drehmoment'!E$4*$D$7/$C$7*$E$7*$H$7*$C$8*$E$8*$H$8/($F$4/2/PI()))))","v":{"v":1269.39962715805,"d":"1269"}},{"$f":"IF('Leistung u. Drehmoment'!F1=\"\",E103,IF(($H$7=0),0,('Leistung u. Drehmoment'!F$4*$D$7/$C$7*$E$7*$H$7*$C$8*$E$8*$H$8/($F$4/2/PI()))))","v":{"v":1370.95159733069,"d":"1371"}},{"$f":"IF('Leistung u. Drehmoment'!G1=\"\",F103,IF(($H$7=0),0,('Leistung u. Drehmoment'!G$4*$D$7/$C$7*$E$7*$H$7*$C$8*$E$8*$H$8/($F$4/2/PI()))))","v":{"v":1454.03957292649,"d":"1454"}},{"$f":"IF('Leistung u. Drehmoment'!H1=\"\",G103,IF(($H$7=0),0,('Leistung u. Drehmoment'!H$4*$D$7/$C$7*$E$7*$H$7*$C$8*$E$8*$H$8/($F$4/2/PI()))))","v":{"v":1485.19756377492,"d":"1485"}},{"$f":"IF('Leistung u. Drehmoment'!I1=\"\",H103,IF(($H$7=0),0,('Leistung u. Drehmoment'!I$4*$D$7/$C$7*$E$7*$H$7*$C$8*$E$8*$H$8/($F$4/2/PI()))))","v":{"v":1476.40941250998,"d":"1476"}},{"$f":"IF('Leistung u. Drehmoment'!J1=\"\",I103,IF(($H$7=0),0,('Leistung u. Drehmoment'!J$4*$D$7/$C$7*$E$7*$H$7*$C$8*$E$8*$H$8/($F$4/2/PI()))))","v":{"v":1419.91415437822,"d":"1420"}},{"$f":"IF('Leistung u. Drehmoment'!K1=\"\",J103,IF(($H$7=0),0,('Leistung u. Drehmoment'!K$4*$D$7/$C$7*$E$7*$H$7*$C$8*$E$8*$H$8/($F$4/2/PI()))))","v":{"v":1310.02041522711,"d":"1310"}},{"$f":"IF('Leistung u. Drehmoment'!L1=\"\",K103,IF(($H$7=0),0,('Leistung u. Drehmoment'!L$4*$D$7/$C$7*$E$7*$H$7*$C$8*$E$8*$H$8/($F$4/2/PI()))))","v":{"v":1142.45966444224,"d":"1142"}},{"$f":"IF('Leistung u. Drehmoment'!M1=\"\",L103,IF(($H$7=0),0,('Leistung u. Drehmoment'!M$4*$D$7/$C$7*$E$7*$H$7*$C$8*$E$8*$H$8/($F$4/2/PI()))))","v":{"v":913.967731553796,"d":"914"}}]
["V4",null,{"$f":"IF('Leistung u. Drehmoment'!C1=\"\",0,IF(($I$7<=0),0,(3.6*$F$4*'Leistung u. Drehmoment'!C$1/($D$7/$C$7*$E$7*$I$7*60))))","v":{"v":53.4937935664866,"d":"53"}},{"$f":"IF('Leistung u. Drehmoment'!D1=\"\",C104,IF(($I$7<=0),0,(3.6*$F$4*'Leistung u. Drehmoment'!D$1/($D$7/$C$7*$E$7*$I$7*60))))","v":{"v":71.3250580886489,"d":"71"}},{"$f":"IF('Leistung u. Drehmoment'!E1=\"\",D104,IF(($I$7<=0),0,(3.6*$F$4*'Leistung u. Drehmoment'!E$1/($D$7/$C$7*$E$7*$I$7*60))))","v":{"v":80.24069034973,"d":"80"}},{"$f":"IF('Leistung u. Drehmoment'!F1=\"\",E104,IF(($I$7<=0),0,(3.6*$F$4*'Leistung u. Drehmoment'!F$1/($D$7/$C$7*$E$7*$I$7*60))))","v":{"v":89.1563226108111,"d":"89"}},{"$f":"IF('Leistung u. Drehmoment'!G1=\"\",F104,IF(($I$7<=0),0,(3.6*$F$4*'Leistung u. Drehmoment'!G$1/($D$7/$C$7*$E$7*$I$7*60))))","v":{"v":98.0719548718922,"d":"98"}},{"$f":"IF('Leistung u. Drehmoment'!H1=\"\",G104,IF(($I$7<=0),0,(3.6*$F$4*'Leistung u. Drehmoment'!H$1/($D$7/$C$7*$E$7*$I$7*60))))","v":{"v":106.987587132973,"d":"107"}},{"$f":"IF('Leistung u. Drehmoment'!I1=\"\",H104,IF(($I$7<=0),0,(3.6*$F$4*'Leistung u. Drehmoment'!I$1/($D$7/$C$7*$E$7*$I$7*60))))","v":{"v":115.903219394054,"d":"116"}},{"$f":"IF('Leistung u. Drehmoment'!J1=\"\",I104,IF(($I$7<=0),0,(3.6*$F$4*'Leistung u. Drehmoment'!J$1/($D$7/$C$7*$E$7*$I$7*60))))","v":{"v":124.818851655135,"d":"125"}},{"$f":"IF('Leistung u. Drehmoment'!K1=\"\",J104,IF(($I$7<=0),0,(3.6*$F$4*'Leistung u. Drehmoment'!K$1/($D$7/$C$7*$E$7*$I$7*60))))","v":{"v":133.734483916217,"d":"134"}},{"$f":"IF('Leistung u. Drehmoment'!L1=\"\",K104,IF(($I$7<=0),0,(3.6*$F$4*'Leistung u. Drehmoment'!L$1/($D$7/$C$7*$E$7*$I$7*60))))","v":{"v":142.650116177298,"d":"143"}},{"$f":"IF('Leistung u. Drehmoment'!M1=\"\",L104,IF(($I$7<=0),0,(3.6*$F$4*'Leistung u. Drehmoment'!M$1/($D$7/$C$7*$E$7*$I$7*60))))","v":{"v":151.565748438379,"d":"152"}}]
["F4",null,{"$f":"IF('Leistung u. Drehmoment'!C1=\"\",0,IF(($I$7=0),0,('Leistung u. Drehmoment'!C$4*$D$7/$C$7*$E$7*$C$8*$E$8*$I$7*$I$8/($F$4/2/PI()))))","v":{"v":682.211628195512,"d":"682"}},{"$f":"IF('Leistung u. Drehmoment'!D1=\"\",C105,IF(($I$7=0),0,('Leistung u. Drehmoment'!D$4*$D$7/$C$7*$E$7*$C$8*$E$8*$I$7*$I$8/($F$4/2/PI()))))","v":{"v":930.288583902971,"d":"930"}},{"$f":"IF('Leistung u. Drehmoment'!E1=\"\",D105,IF(($I$7=0),0,('Leistung u. Drehmoment'!E$4*$D$7/$C$7*$E$7*$C$8*$E$8*$I$7*$I$8/($F$4/2/PI()))))","v":{"v":1033.65398211441,"d":"1034"}},{"$f":"IF('Leistung u. Drehmoment'!F1=\"\",E105,IF(($I$7=0),0,('Leistung u. Drehmoment'!F$4*$D$7/$C$7*$E$7*$C$8*$E$8*$I$7*$I$8/($F$4/2/PI()))))","v":{"v":1116.34630068356,"d":"1116"}},{"$f":"IF('Leistung u. Drehmoment'!G1=\"\",F105,IF(($I$7=0),0,('Leistung u. Drehmoment'!G$4*$D$7/$C$7*$E$7*$C$8*$E$8*$I$7*$I$8/($F$4/2/PI()))))","v":{"v":1184.00365224014,"d":"1184"}},{"$f":"IF('Leistung u. Drehmoment'!H1=\"\",G105,IF(($I$7=0),0,('Leistung u. Drehmoment'!H$4*$D$7/$C$7*$E$7*$C$8*$E$8*$I$7*$I$8/($F$4/2/PI()))))","v":{"v":1209.37515907386,"d":"1209"}},{"$f":"IF('Leistung u. Drehmoment'!I1=\"\",H105,IF(($I$7=0),0,('Leistung u. Drehmoment'!I$4*$D$7/$C$7*$E$7*$C$8*$E$8*$I$7*$I$8/($F$4/2/PI()))))","v":{"v":1202.21909304384,"d":"1202"}},{"$f":"IF('Leistung u. Drehmoment'!J1=\"\",I105,IF(($I$7=0),0,('Leistung u. Drehmoment'!J$4*$D$7/$C$7*$E$7*$C$8*$E$8*$I$7*$I$8/($F$4/2/PI()))))","v":{"v":1156.21581142226,"d":"1156"}},{"$f":"IF('Leistung u. Drehmoment'!K1=\"\",J105,IF(($I$7=0),0,('Leistung u. Drehmoment'!K$4*$D$7/$C$7*$E$7*$C$8*$E$8*$I$7*$I$8/($F$4/2/PI()))))","v":{"v":1066.73090954207,"d":"1067"}},{"$f":"IF('Leistung u. Drehmoment'!L1=\"\",K105,IF(($I$7=0),0,('Leistung u. Drehmoment'!L$4*$D$7/$C$7*$E$7*$C$8*$E$8*$I$7*$I$8/($F$4/2/PI()))))","v":{"v":930.288583902971,"d":"930"}},{"$f":"IF('Leistung u. Drehmoment'!M1=\"\",L105,IF(($I$7=0),0,('Leistung u. Drehmoment'!M$4*$D$7/$C$7*$E$7*$C$8*$E$8*$I$7*$I$8/($F$4/2/PI()))))","v":{"v":744.230867122377,"d":"744"}}]
["V5",null,{"$f":"IF('Leistung u. Drehmoment'!C1=\"\",0,IF(($J$7<=0),0,(3.6*$F$4*'Leistung u. Drehmoment'!C$1/($D$7/$C$7*$E$7*$J$7*60))))","v":{"v":62.1122380855317,"d":"62"}},{"$f":"IF('Leistung u. Drehmoment'!D1=\"\",C106,IF(($J$7<=0),0,(3.6*$F$4*'Leistung u. Drehmoment'!D$1/($D$7/$C$7*$E$7*$J$7*60))))","v":{"v":82.8163174473756,"d":"83"}},{"$f":"IF('Leistung u. Drehmoment'!E1=\"\",D106,IF(($J$7<=0),0,(3.6*$F$4*'Leistung u. Drehmoment'!E$1/($D$7/$C$7*$E$7*$J$7*60))))","v":{"v":93.1683571282975,"d":"93"}},{"$f":"IF('Leistung u. Drehmoment'!F1=\"\",E106,IF(($J$7<=0),0,(3.6*$F$4*'Leistung u. Drehmoment'!F$1/($D$7/$C$7*$E$7*$J$7*60))))","v":{"v":103.520396809219,"d":"104"}},{"$f":"IF('Leistung u. Drehmoment'!G1=\"\",F106,IF(($J$7<=0),0,(3.6*$F$4*'Leistung u. Drehmoment'!G$1/($D$7/$C$7*$E$7*$J$7*60))))","v":{"v":113.872436490141,"d":"114"}},{"$f":"IF('Leistung u. Drehmoment'!H1=\"\",G106,IF(($J$7<=0),0,(3.6*$F$4*'Leistung u. Drehmoment'!H$1/($D$7/$C$7*$E$7*$J$7*60))))","v":{"v":124.224476171063,"d":"124"}},{"$f":"IF('Leistung u. Drehmoment'!I1=\"\",H106,IF(($J$7<=0),0,(3.6*$F$4*'Leistung u. Drehmoment'!I$1/($D$7/$C$7*$E$7*$J$7*60))))","v":{"v":134.576515851985,"d":"135"}},{"$f":"IF('Leistung u. Drehmoment'!J1=\"\",I106,IF(($J$7<=0),0,(3.6*$F$4*'Leistung u. Drehmoment'!J$1/($D$7/$C$7*$E$7*$J$7*60))))","v":{"v":144.928555532907,"d":"145"}},{"$f":"IF('Leistung u. Drehmoment'!K1=\"\",J106,IF(($J$7<=0),0,(3.6*$F$4*'Leistung u. Drehmoment'!K$1/($D$7/$C$7*$E$7*$J$7*60))))","v":{"v":155.280595213829,"d":"155"}},{"$f":"IF('Leistung u. Drehmoment'!L1=\"\",K106,IF(($J$7<=0),0,(3.6*$F$4*'Leistung u. Drehmoment'!L$1/($D$7/$C$7*$E$7*$J$7*60))))","v":{"v":165.632634894751,"d":"166"}},{"$f":"IF('Leistung u. Drehmoment'!M1=\"\",L106,IF(($J$7<=0),0,(3.6*$F$4*'Leistung u. Drehmoment'!M$1/($D$7/$C$7*$E$7*$J$7*60))))","v":{"v":175.984674575673,"d":"176"}}]
["F5",null,{"$f":"IF('Leistung u. Drehmoment'!C1=\"\",0,IF(($J$7=0),0,('Leistung u. Drehmoment'!C$4*$D$7/$C$7*$E$7*$C$8*$E$8*$J$7*$J$8/($F$4/2/PI()))))","v":{"v":587.550684570297,"d":"588"}},{"$f":"IF('Leistung u. Drehmoment'!D1=\"\",C107,IF(($J$7=0),0,('Leistung u. Drehmoment'!D$4*$D$7/$C$7*$E$7*$C$8*$E$8*$J$7*$J$8/($F$4/2/PI()))))","v":{"v":801.205478959496,"d":"801"}},{"$f":"IF('Leistung u. Drehmoment'!E1=\"\",D107,IF(($J$7=0),0,('Leistung u. Drehmoment'!E$4*$D$7/$C$7*$E$7*$C$8*$E$8*$J$7*$J$8/($F$4/2/PI()))))","v":{"v":890.228309954996,"d":"890"}},{"$f":"IF('Leistung u. Drehmoment'!F1=\"\",E107,IF(($J$7=0),0,('Leistung u. Drehmoment'!F$4*$D$7/$C$7*$E$7*$C$8*$E$8*$J$7*$J$8/($F$4/2/PI()))))","v":{"v":961.446574751396,"d":"961"}},{"$f":"IF('Leistung u. Drehmoment'!G1=\"\",F107,IF(($J$7=0),0,('Leistung u. Drehmoment'!G$4*$D$7/$C$7*$E$7*$C$8*$E$8*$J$7*$J$8/($F$4/2/PI()))))","v":{"v":1019.71606413027,"d":"1020"}},{"$f":"IF('Leistung u. Drehmoment'!H1=\"\",G107,IF(($J$7=0),0,('Leistung u. Drehmoment'!H$4*$D$7/$C$7*$E$7*$C$8*$E$8*$J$7*$J$8/($F$4/2/PI()))))","v":{"v":1041.56712264735,"d":"1042"}},{"$f":"IF('Leistung u. Drehmoment'!I1=\"\",H107,IF(($J$7=0),0,('Leistung u. Drehmoment'!I$4*$D$7/$C$7*$E$7*$C$8*$E$8*$J$7*$J$8/($F$4/2/PI()))))","v":{"v":1035.40400357843,"d":"1035"}},{"$f":"IF('Leistung u. Drehmoment'!J1=\"\",I107,IF(($J$7=0),0,('Leistung u. Drehmoment'!J$4*$D$7/$C$7*$E$7*$C$8*$E$8*$J$7*$J$8/($F$4/2/PI()))))","v":{"v":995.783952421088,"d":"996"}},{"$f":"IF('Leistung u. Drehmoment'!K1=\"\",J107,IF(($J$7=0),0,('Leistung u. Drehmoment'!K$4*$D$7/$C$7*$E$7*$C$8*$E$8*$J$7*$J$8/($F$4/2/PI()))))","v":{"v":918.715615873556,"d":"919"}},{"$f":"IF('Leistung u. Drehmoment'!L1=\"\",K107,IF(($J$7=0),0,('Leistung u. Drehmoment'!L$4*$D$7/$C$7*$E$7*$C$8*$E$8*$J$7*$J$8/($F$4/2/PI()))))","v":{"v":801.205478959496,"d":"801"}},{"$f":"IF('Leistung u. Drehmoment'!M1=\"\",L107,IF(($J$7=0),0,('Leistung u. Drehmoment'!M$4*$D$7/$C$7*$E$7*$C$8*$E$8*$J$7*$J$8/($F$4/2/PI()))))","v":{"v":640.964383167597,"d":"641"}}]
["V6",null,{"$f":"IF('Leistung u. Drehmoment'!C1=\"\",0,IF(($K$7<=0),0,(3.6*$F$4*'Leistung u. Drehmoment'!C$1/($D$7/$C$7*$E$7*$K$7*60))))","v":0},{"$f":"IF('Leistung u. Drehmoment'!D1=\"\",C108,IF(($K$7<=0),0,(3.6*$F$4*'Leistung u. Drehmoment'!D$1/($D$7/$C$7*$E$7*$K$7*60))))","v":0},{"$f":"IF('Leistung u. Drehmoment'!E1=\"\",D108,IF(($K$7<=0),0,(3.6*$F$4*'Leistung u. Drehmoment'!E$1/($D$7/$C$7*$E$7*$K$7*60))))","v":0},{"$f":"IF('Leistung u. Drehmoment'!F1=\"\",E108,IF(($K$7<=0),0,(3.6*$F$4*'Leistung u. Drehmoment'!F$1/($D$7/$C$7*$E$7*$K$7*60))))","v":0},{"$f":"IF('Leistung u. Drehmoment'!G1=\"\",F108,IF(($K$7<=0),0,(3.6*$F$4*'Leistung u. Drehmoment'!G$1/($D$7/$C$7*$E$7*$K$7*60))))","v":0},{"$f":"IF('Leistung u. Drehmoment'!H1=\"\",G108,IF(($K$7<=0),0,(3.6*$F$4*'Leistung u. Drehmoment'!H$1/($D$7/$C$7*$E$7*$K$7*60))))","v":0},{"$f":"IF('Leistung u. Drehmoment'!I1=\"\",H108,IF(($K$7<=0),0,(3.6*$F$4*'Leistung u. Drehmoment'!I$1/($D$7/$C$7*$E$7*$K$7*60))))","v":0},{"$f":"IF('Leistung u. Drehmoment'!J1=\"\",I108,IF(($K$7<=0),0,(3.6*$F$4*'Leistung u. Drehmoment'!J$1/($D$7/$C$7*$E$7*$K$7*60))))","v":0},{"$f":"IF('Leistung u. Drehmoment'!K1=\"\",J108,IF(($K$7<=0),0,(3.6*$F$4*'Leistung u. Drehmoment'!K$1/($D$7/$C$7*$E$7*$K$7*60))))","v":0},{"$f":"IF('Leistung u. Drehmoment'!L1=\"\",K108,IF(($K$7<=0),0,(3.6*$F$4*'Leistung u. Drehmoment'!L$1/($D$7/$C$7*$E$7*$K$7*60))))","v":0},{"$f":"IF('Leistung u. Drehmoment'!M1=\"\",L108,IF(($K$7<=0),0,(3.6*$F$4*'Leistung u. Drehmoment'!M$1/($D$7/$C$7*$E$7*$K$7*60))))","v":0}]
["F6",null,{"$f":"IF('Leistung u. Drehmoment'!C1=\"\",0,IF(($K$7=0),0,('Leistung u. Drehmoment'!C$4*$D$7/$C$7*$E$7*$K$7*$C$8*$E$8*$K$8/($F$4/2/PI()))))","v":0},{"$f":"IF('Leistung u. Drehmoment'!D1=\"\",C109,IF(($K$7=0),0,('Leistung u. Drehmoment'!D$4*$D$7/$C$7*$E$7*$K$7*$C$8*$E$8*$K$8/($F$4/2/PI()))))","v":0},{"$f":"IF('Leistung u. Drehmoment'!E1=\"\",D109,IF(($K$7=0),0,('Leistung u. Drehmoment'!E$4*$D$7/$C$7*$E$7*$K$7*$C$8*$E$8*$K$8/($F$4/2/PI()))))","v":0},{"$f":"IF('Leistung u. Drehmoment'!F1=\"\",E109,IF(($K$7=0),0,('Leistung u. Drehmoment'!F$4*$D$7/$C$7*$E$7*$K$7*$C$8*$E$8*$K$8/($F$4/2/PI()))))","v":0},{"$f":"IF('Leistung u. Drehmoment'!G1=\"\",F109,IF(($K$7=0),0,('Leistung u. Drehmoment'!G$4*$D$7/$C$7*$E$7*$K$7*$C$8*$E$8*$K$8/($F$4/2/PI()))))","v":0},{"$f":"IF('Leistung u. Drehmoment'!H1=\"\",G109,IF(($K$7=0),0,('Leistung u. Drehmoment'!H$4*$D$7/$C$7*$E$7*$K$7*$C$8*$E$8*$K$8/($F$4/2/PI()))))","v":0},{"$f":"IF('Leistung u. Drehmoment'!I1=\"\",H109,IF(($K$7=0),0,('Leistung u. Drehmoment'!I$4*$D$7/$C$7*$E$7*$K$7*$C$8*$E$8*$K$8/($F$4/2/PI()))))","v":0},{"$f":"IF('Leistung u. Drehmoment'!J1=\"\",I109,IF(($K$7=0),0,('Leistung u. Drehmoment'!J$4*$D$7/$C$7*$E$7*$K$7*$C$8*$E$8*$K$8/($F$4/2/PI()))))","v":0},{"$f":"IF('Leistung u. Drehmoment'!K1=\"\",J109,IF(($K$7=0),0,('Leistung u. Drehmoment'!K$4*$D$7/$C$7*$E$7*$K$7*$C$8*$E$8*$K$8/($F$4/2/PI()))))","v":0},{"$f":"IF('Leistung u. Drehmoment'!L1=\"\",K109,IF(($K$7=0),0,('Leistung u. Drehmoment'!L$4*$D$7/$C$7*$E$7*$K$7*$C$8*$E$8*$K$8/($F$4/2/PI()))))","v":0},{"$f":"IF('Leistung u. Drehmoment'!M1=\"\",L109,IF(($K$7=0),0,('Leistung u. Drehmoment'!M$4*$D$7/$C$7*$E$7*$K$7*$C$8*$E$8*$K$8/($F$4/2/PI()))))","v":0}]
["V7",null,{"$f":"IF('Leistung u. Drehmoment'!C1=\"\",0,IF(($L$7<=0),0,(3.6*$F$4*'Leistung u. Drehmoment'!C$1/($D$7/$C$7*$E$7*$L$7*60))))","v":0},{"$f":"IF('Leistung u. Drehmoment'!D1=\"\",C110,IF(($L$7<=0),0,(3.6*$F$4*'Leistung u. Drehmoment'!D$1/($D$7/$C$7*$E$7*$L$7*60))))","v":0},{"$f":"IF('Leistung u. Drehmoment'!E1=\"\",D110,IF(($L$7<=0),0,(3.6*$F$4*'Leistung u. Drehmoment'!E$1/($D$7/$C$7*$E$7*$L$7*60))))","v":0},{"$f":"IF('Leistung u. Drehmoment'!F1=\"\",E110,IF(($L$7<=0),0,(3.6*$F$4*'Leistung u. Drehmoment'!F$1/($D$7/$C$7*$E$7*$L$7*60))))","v":0},{"$f":"IF('Leistung u. Drehmoment'!G1=\"\",F110,IF(($L$7<=0),0,(3.6*$F$4*'Leistung u. Drehmoment'!G$1/($D$7/$C$7*$E$7*$L$7*60))))","v":0},{"$f":"IF('Leistung u. Drehmoment'!H1=\"\",G110,IF(($L$7<=0),0,(3.6*$F$4*'Leistung u. Drehmoment'!H$1/($D$7/$C$7*$E$7*$L$7*60))))","v":0},{"$f":"IF('Leistung u. Drehmoment'!I1=\"\",H110,IF(($L$7<=0),0,(3.6*$F$4*'Leistung u. Drehmoment'!I$1/($D$7/$C$7*$E$7*$L$7*60))))","v":0},{"$f":"IF('Leistung u. Drehmoment'!J1=\"\",I110,IF(($L$7<=0),0,(3.6*$F$4*'Leistung u. Drehmoment'!J$1/($D$7/$C$7*$E$7*$L$7*60))))","v":0},{"$f":"IF('Leistung u. Drehmoment'!K1=\"\",J110,IF(($L$7<=0),0,(3.6*$F$4*'Leistung u. Drehmoment'!K$1/($D$7/$C$7*$E$7*$L$7*60))))","v":0},{"$f":"IF('Leistung u. Drehmoment'!L1=\"\",K110,IF(($L$7<=0),0,(3.6*$F$4*'Leistung u. Drehmoment'!L$1/($D$7/$C$7*$E$7*$L$7*60))))","v":0},{"$f":"IF('Leistung u. Drehmoment'!M1=\"\",L110,IF(($L$7<=0),0,(3.6*$F$4*'Leistung u. Drehmoment'!M$1/($D$7/$C$7*$E$7*$L$7*60))))","v":0}]
["F7",null,{"$f":"IF('Leistung u. Drehmoment'!C1=\"\",0,IF(($L$7=0),0,('Leistung u. Drehmoment'!C$4*$D$7/$C$7*$E$7*$C$8*$E$8*$L$7*$L$8/($F$4/2/PI()))))","v":0},{"$f":"IF('Leistung u. Drehmoment'!D1=\"\",C111,IF(($L$7=0),0,('Leistung u. Drehmoment'!D$4*$D$7/$C$7*$E$7*$C$8*$E$8*$L$7*$L$8/($F$4/2/PI()))))","v":0},{"$f":"IF('Leistung u. Drehmoment'!E1=\"\",D111,IF(($L$7=0),0,('Leistung u. Drehmoment'!E$4*$D$7/$C$7*$E$7*$C$8*$E$8*$L$7*$L$8/($F$4/2/PI()))))","v":0},{"$f":"IF('Leistung u. Drehmoment'!F1=\"\",E111,IF(($L$7=0),0,('Leistung u. Drehmoment'!F$4*$D$7/$C$7*$E$7*$C$8*$E$8*$L$7*$L$8/($F$4/2/PI()))))","v":0},{"$f":"IF('Leistung u. Drehmoment'!G1=\"\",F111,IF(($L$7=0),0,('Leistung u. Drehmoment'!G$4*$D$7/$C$7*$E$7*$C$8*$E$8*$L$7*$L$8/($F$4/2/PI()))))","v":0},{"$f":"IF('Leistung u. Drehmoment'!H1=\"\",G111,IF(($L$7=0),0,('Leistung u. Drehmoment'!H$4*$D$7/$C$7*$E$7*$C$8*$E$8*$L$7*$L$8/($F$4/2/PI()))))","v":0},{"$f":"IF('Leistung u. Drehmoment'!I1=\"\",H111,IF(($L$7=0),0,('Leistung u. Drehmoment'!I$4*$D$7/$C$7*$E$7*$C$8*$E$8*$L$7*$L$8/($F$4/2/PI()))))","v":0},{"$f":"IF('Leistung u. Drehmoment'!J1=\"\",I111,IF(($L$7=0),0,('Leistung u. Drehmoment'!J$4*$D$7/$C$7*$E$7*$C$8*$E$8*$L$7*$L$8/($F$4/2/PI()))))","v":0},{"$f":"IF('Leistung u. Drehmoment'!K1=\"\",J111,IF(($L$7=0),0,('Leistung u. Drehmoment'!K$4*$D$7/$C$7*$E$7*$C$8*$E$8*$L$7*$L$8/($F$4/2/PI()))))","v":0},{"$f":"IF('Leistung u. Drehmoment'!L1=\"\",K111,IF(($L$7=0),0,('Leistung u. Drehmoment'!L$4*$D$7/$C$7*$E$7*$C$8*$E$8*$L$7*$L$8/($F$4/2/PI()))))","v":0},{"$f":"IF('Leistung u. Drehmoment'!M1=\"\",L111,IF(($L$7=0),0,('Leistung u. Drehmoment'!M$4*$D$7/$C$7*$E$7*$C$8*$E$8*$L$7*$L$8/($F$4/2/PI()))))","v":0}]
[]
[null,"nmin","nmax","vschalt",null,"nSchalt opti",null,"VSchalt opti",null,"nmin","nmax","vmin","vmax"]
["1.",0,{"$f":"M8","v":8500},0,{"$f":"IF((F$7<=0),\"\",(3.6*$F$4*$C$114/($D$7/$C$7*$E$7*F$7*60)))","v":{"v":57.5949844065839,"d":"58"}},0,{"$f":"F68","v":8500},0,{"$f":"F69","v":{"v":57.5949844065839,"d":"58"}},1000,{"$f":"MAX('Leistung u. Drehmoment'!C1:M1)","v":8500},{"$f":"IF((F$7<=0),\"\",(3.6*$F$4*J114/($D$7/$C$7*$E$7*F$7*60)))","v":6.77588051842164},{"$f":"IF((F$7<=0),\"\",(3.6*$F$4*K114/($D$7/$C$7*$E$7*F$7*60)))","v":57.5949844065839}]
["2.",{"$f":"IF(($G$7<=0),\"\",E114*($D$7/$C$7*$E$7*$G$7*60)/(3.6*$F$4))","v":5440},{"$f":"IF((G$7<=0),\"\",$C$114)","v":8500},{"$f":"$E114","v":{"v":57.5949844065839,"d":"58"}},{"$f":"IF(($G$7<=0),\"\",(3.6*$F$4*$C$114/($D$7/$C$7*$E$7*$G$7*60)))","v":{"v":89.9921631352874,"d":"90"}},{"$f":"IF(($G$7<=0),\"\",I114*($D$7/$C$7*$E$7*$G$7*60)/(3.6*$F$4))","v":5440},{"$f":"G68","v":{"v":8122.92953666499,"d":"8123"}},{"$f":"F69","v":{"v":57.5949844065839,"d":"58"}},{"$f":"G69","v":86},{"$f":"IF((G$7<=0),\"\",1000)","v":1000},{"$f":"IF((G$7<=0),\"\",MAX('Leistung u. Drehmoment'!C1:M1))","v":8500},{"$f":"IF((G$7<=0),\"\",(3.6*$F$4*J115/($D$7/$C$7*$E$7*G$7*60)))","v":10.5873133100338},{"$f":"IF((G$7<=0),\"\",(3.6*$F$4*K115/($D$7/$C$7*$E$7*G$7*60)))","v":89.9921631352874}]
["3.",{"$f":"IF(($H$7<=0),\"\",E115*($D$7/$C$7*$E$7*$H$7*60)/(3.6*F$4))","v":{"v":6197.91666666667,"d":"6198"}},{"$f":"IF((H$7<=0),\"\",$C$114)","v":8500},{"$f":"$E115","v":{"v":89.9921631352874,"d":"90"}},{"$f":"IF(($H$7<=0),\"\",(3.6*$F$4*$C$114/($D$7/$C$7*$E$7*$H$7*60)))","v":{"v":123.417823728394,"d":"123"}},{"$f":"IF(($H$7<=0),\"\",I115*($D$7/$C$7*$E$7*$H$7*60)/(3.6*F$4))","v":{"v":5922.96945381822,"d":"5923"}},{"$f":"H68","v":{"v":7782.5063753658,"d":"7783"}},{"$f":"G69","v":86},{"$f":"H69","v":113},{"$f":"IF((H$7<=0),\"\",1000)","v":1000},{"$f":"IF((H$7<=0),\"\",MAX('Leistung u. Drehmoment'!C1:M1))","v":8500},{"$f":"IF((H$7<=0),\"\",(3.6*$F$4*J116/($D$7/$C$7*$E$7*H$7*60)))","v":14.5197439680464},{"$f":"IF((H$7<=0),\"\",(3.6*$F$4*K116/($D$7/$C$7*$E$7*H$7*60)))","v":123.417823728394}]
["4.",{"$f":"IF(($I$7<=0),\"\",E116*($D$7/$C$7*$E$7*$I$7*60)/(3.6*F$4))","v":{"v":6921.42857142857,"d":"6921"}},{"$f":"IF((I$7<=0),\"\",$C$114)","v":8500},{"$f":"$E116","v":{"v":123.417823728394,"d":"123"}},{"$f":"IF(($I$7<=0),\"\",(3.6*$F$4*$C$114/($D$7/$C$7*$E$7*$I$7*60)))","v":{"v":151.565748438379,"d":"152"}},{"$f":"IF(($I$7<=0),\"\",I116*($D$7/$C$7*$E$7*$I$7*60)/(3.6*F$4))","v":{"v":6337.18376279787,"d":"6337"}},{"$f":"I68","v":{"v":7627.0530242523,"d":"7627"}},{"$f":"H69","v":113},{"$f":"I69","v":136},{"$f":"IF((I$7<=0),\"\",1000)","v":1000},{"$f":"IF((I$7<=0),\"\",MAX('Leistung u. Drehmoment'!C1:M1))","v":8500},{"$f":"IF((I$7<=0),\"\",(3.6*$F$4*J117/($D$7/$C$7*$E$7*I$7*60)))","v":17.8312645221622},{"$f":"IF((I$7<=0),\"\",(3.6*$F$4*K117/($D$7/$C$7*$E$7*I$7*60)))","v":151.565748438379}]
["5.",{"$f":"IF(($J$7<=0),\"\",E117*($D$7/$C$7*$E$7*$J$7*60)/(3.6*F$4))","v":{"v":7320.57416267943,"d":"7321"}},{"$f":"IF((J$7<=0),\"\",$C$114)","v":8500},{"$f":"$E117","v":{"v":151.565748438379,"d":"152"}},{"$f":"IF(($J$7<=0),\"\",(3.6*$F$4*$C$114/($D$7/$C$7*$E$7*$J$7*60)))","v":{"v":175.984674575673,"d":"176"}},{"$f":"IF(($J$7<=0),\"\",I117*($D$7/$C$7*$E$7*$J$7*60)/(3.6*F$4))","v":{"v":6568.75380079146,"d":"6569"}},{"$f":"J68","v":8500},{"$f":"I69","v":136},{"$f":"J69","v":{"v":175.984674575673,"d":"176"}},{"$f":"IF((J$7<=0),\"\",1000)","v":1000},{"$f":"IF((J$7<=0),\"\",MAX('Leistung u. Drehmoment'!C1:M1))","v":8500},{"$f":"IF((J$7<=0),\"\",(3.6*$F$4*J118/($D$7/$C$7*$E$7*J$7*60)))","v":20.7040793618439},{"$f":"IF((J$7<=0),\"\",(3.6*$F$4*K118/($D$7/$C$7*$E$7*J$7*60)))","v":175.984674575673}]
["6.",{"$f":"IF(($K$7<=0),\"\",E118*($D$7/$C$7*$E$7*$K$7*60)/(3.6*F$4))","v":""},{"$f":"IF((K$7<=0),\"\",$C$114)","v":""},{"$f":"$E118","v":{"v":175.984674575673,"d":"176"}},{"$f":"IF(($K$7<=0),\"\",(3.6*$F$4*$C$114/($D$7/$C$7*$E$7*$K$7*60)))","v":""},{"$f":"IF(($K$7<=0),\"\",I118*($D$7/$C$7*$E$7*$K$7*60)/(3.6*F$4))","v":""},{"$f":"K68","v":""},{"$f":"J69","v":{"v":175.984674575673,"d":"176"}},{"$f":"K69","v":""},{"$f":"IF((K$7<=0),\"\",1000)","v":""},{"$f":"IF((K$7<=0),\"\",MAX('Leistung u. Drehmoment'!C1:M1))","v":""},{"$f":"IF((K$7<=0),\"\",(3.6*$F$4*J119/($D$7/$C$7*$E$7*K$7*60)))","v":""},{"$f":"IF((K$7<=0),\"\",(3.6*$F$4*K119/($D$7/$C$7*$E$7*K$7*60)))","v":""}]
["7.",{"$f":"IF(($L$7<=0),\"\",E119*($D$7/$C$7*$E$7*$L$7*60)/(3.6*F$4))","v":""},{"$f":"IF((L$7<=0),\"\",$C$114)","v":""},{"$f":"$E119","v":""},{"$f":"IF(($L$7<=0),\"\",(3.6*$F$4*$C$114/($D$7/$C$7*$E$7*$L$7*60)))","v":""},{"$f":"IF(($L$7<=0),\"\",I119*($D$7/$C$7*$E$7*$L$7*60)/(3.6*F$4))","v":""},{"$f":"L68","v":""},{"$f":"K69","v":""},{"$f":"L69","v":""},{"$f":"IF((L$7<=0),\"\",1000)","v":""},{"$f":"IF((L$7<=0),\"\",MAX('Leistung u. Drehmoment'!C1:M1))","v":""},{"$f":"IF((L$7<=0),\"\",(3.6*$F$4*J120/($D$7/$C$7*$E$7*L$7*60)))","v":""},{"$f":"IF((L$7<=0),\"\",(3.6*$F$4*K120/($D$7/$C$7*$E$7*L$7*60)))","v":""}]
[]
["Vmax",null,{"$f":"IF(OR(O15=\"n\",O15=\"N\"),0,D122*E122)","v":{"v":183.0240615587,"d":"183"}},{"$f":"P12","v":1.04},{"$f":"(MAX($M$98,$M$100,$M$102,$M$104,$M$106,$M$108,$M$110))","v":{"v":175.984674575673,"d":"176"}}]
["V",null,null,0,{"$f":"$C122/8*1","v":{"v":22.8780076948375,"d":"23"}},{"$f":"$C122/8*2","v":{"v":45.756015389675,"d":"46"}},{"$f":"$C122/8*3","v":{"v":68.6340230845125,"d":"69"}},{"$f":"$C122/8*4","v":{"v":91.51203077935,"d":"92"}},{"$f":"$C122/8*5","v":{"v":114.390038474188,"d":"114"}},{"$f":"$C122/8*6","v":{"v":137.268046169025,"d":"137"}},{"$f":"$C122/8*7","v":{"v":160.146053863863,"d":"160"}},{"$f":"$C122/8*8","v":{"v":183.0240615587,"d":"183"}}]
[null,null,{"$f":"C134","v":{"v":0.1,"d":"10 %"}},{"$f":"IF(C146<0,E124,D$123)","v":0},{"$f":"IF($C$144<D146,D124,IF(D146<0,F124,E$123))","v":{"v":22.8780076948375,"d":"23"}},{"$f":"IF($C$144<E146,E124,IF(E146<0,G124,F$123))","v":{"v":45.756015389675,"d":"46"}},{"$f":"IF($C$144<F146,F124,IF(F146<0,H124,G$123))","v":{"v":68.6340230845125,"d":"69"}},{"$f":"IF($C$144<G146,G124,IF(G146<0,I124,H$123))","v":{"v":91.51203077935,"d":"92"}},{"$f":"IF($C$144<H146,H124,IF(H146<0,J124,I$123))","v":{"v":114.390038474188,"d":"114"}},{"$f":"IF($C$144<I146,I124,IF(I146<0,K124,J$123))","v":{"v":137.268046169025,"d":"137"}},{"$f":"IF($C$144<J146,J124,IF(J146<0,L124,K$123))","v":{"v":160.146053863863,"d":"160"}},{"$f":"IF($C$144<K146,K124,IF(K146<0,O124,L$123))","v":{"v":183.0240615587,"d":"183"}}]
[null,null,{"$f":"C135","v":{"v":-0.05,"d":"-5 %"}},{"$f":"IF(C147<0,E125,D$123)","v":{"v":68.6340230845125,"d":"69"}},{"$f":"IF($C$144<D147,D125,IF(D147<0,F125,E$123))","v":{"v":68.6340230845125,"d":"69"}},{"$f":"IF($C$144<E147,E125,IF(E147<0,G125,F$123))","v":{"v":68.6340230845125,"d":"69"}},{"$f":"IF($C$144<F147,F125,IF(F147<0,H125,G$123))","v":{"v":68.6340230845125,"d":"69"}},{"$f":"IF($C$144<G147,G125,IF(G147<0,I125,H$123))","v":{"v":91.51203077935,"d":"92"}},{"$f":"IF($C$144<H147,H125,IF(H147<0,J125,I$123))","v":{"v":114.390038474188,"d":"114"}},{"$f":"IF($C$144<I147,I125,IF(I147<0,K125,J$123))","v":{"v":137.268046169025,"d":"137"}},{"$f":"IF($C$144<J147,J125,IF(J147<0,L125,K$123))","v":{"v":160.146053863863,"d":"160"}},{"$f":"IF($C$144<K147,K125,IF(K147<0,O125,L$123))","v":{"v":183.0240615587,"d":"183"}}]
[null,null,{"$f":"C136","v":{"v":0,"d":"0 %"}},{"$f":"IF(C148<0,E126,D$123)","v":0},{"$f":"IF($C$144<D148,D126,IF(D148<0,F126,E$123))","v":{"v":22.8780076948375,"d":"23"}},{"$f":"IF($C$144<E148,E126,IF(E148<0,G126,F$123))","v":{"v":45.756015389675,"d":"46"}},{"$f":"IF($C$144<F148,F126,IF(F148<0,H126,G$123))","v":{"v":68.6340230845125,"d":"69"}},{"$f":"IF($C$144<G148,G126,IF(G148<0,I126,H$123))","v":{"v":91.51203077935,"d":"92"}},{"$f":"IF($C$144<H148,H126,IF(H148<0,J126,I$123))","v":{"v":114.390038474188,"d":"114"}},{"$f":"IF($C$144<I148,I126,IF(I148<0,K126,J$123))","v":{"v":137.268046169025,"d":"137"}},{"$f":"IF($C$144<J148,J126,IF(J148<0,L126,K$123))","v":{"v":160.146053863863,"d":"160"}},{"$f":"IF($C$144<K148,K126,IF(K148<0,O126,L$123))","v":{"v":183.0240615587,"d":"183"}}]
[null,null,{"$f":"C137","v":{"v":0.05,"d":"5 %"}},{"$f":"IF(C149<0,E127,D$123)","v":0},{"$f":"IF($C$144<D149,D127,IF(D149<0,F127,E$123))","v":{"v":22.8780076948375,"d":"23"}},{"$f":"IF($C$144<E149,E127,IF(E149<0,G127,F$123))","v":{"v":45.756015389675,"d":"46"}},{"$f":"IF($C$144<F149,F127,IF(F149<0,H127,G$123))","v":{"v":68.6340230845125,"d":"69"}},{"$f":"IF($C$144<G149,G127,IF(G149<0,I127,H$123))","v":{"v":91.51203077935,"d":"92"}},{"$f":"IF($C$144<H149,H127,IF(H149<0,J127,I$123))","v":{"v":114.390038474188,"d":"114"}},{"$f":"IF($C$144<I149,I127,IF(I149<0,K127,J$123))","v":{"v":137.268046169025,"d":"137"}},{"$f":"IF($C$144<J149,J127,IF(J149<0,L127,K$123))","v":{"v":160.146053863863,"d":"160"}},{"$f":"IF($C$144<K149,K127,IF(K149<0,O127,L$123))","v":{"v":183.0240615587,"d":"183"}}]
[null,null,{"$f":"C138","v":{"v":0.33,"d":"33 %"}},{"$f":"IF(C150<0,E128,D$123)","v":0},{"$f":"IF($C$144<D150,D128,IF(D150<0,F128,E$123))","v":{"v":22.8780076948375,"d":"23"}},{"$f":"IF($C$144<E150,E128,IF(E150<0,G128,F$123))","v":{"v":45.756015389675,"d":"46"}},{"$f":"IF($C$144<F150,F128,IF(F150<0,H128,G$123))","v":{"v":68.6340230845125,"d":"69"}},{"$f":"IF($C$144<G150,G128,IF(G150<0,I128,H$123))","v":{"v":91.51203077935,"d":"92"}},{"$f":"IF($C$144<H150,H128,IF(H150<0,J128,I$123))","v":{"v":114.390038474188,"d":"114"}},{"$f":"IF($C$144<I150,I128,IF(I150<0,K128,J$123))","v":{"v":137.268046169025,"d":"137"}},{"$f":"IF($C$144<J150,J128,IF(J150<0,L128,K$123))","v":{"v":160.146053863863,"d":"160"}},{"$f":"IF($C$144<K150,K128,IF(K150<0,O128,L$123))","v":{"v":183.0240615587,"d":"183"}}]
[null,null,{"$f":"C139","v":{"v":0.47,"d":"47 %"}},{"$f":"IF(C151<0,E129,D$123)","v":0},{"$f":"IF($C$144<D151,D129,IF(D151<0,F129,E$123))","v":{"v":22.8780076948375,"d":"23"}},{"$f":"IF($C$144<E151,E129,IF(E151<0,G129,F$123))","v":{"v":45.756015389675,"d":"46"}},{"$f":"IF($C$144<F151,F129,IF(F151<0,H129,G$123))","v":{"v":68.6340230845125,"d":"69"}},{"$f":"IF($C$144<G151,G129,IF(G151<0,I129,H$123))","v":{"v":91.51203077935,"d":"92"}},{"$f":"IF($C$144<H151,H129,IF(H151<0,J129,I$123))","v":{"v":114.390038474188,"d":"114"}},{"$f":"IF($C$144<I151,I129,IF(I151<0,K129,J$123))","v":{"v":137.268046169025,"d":"137"}},{"$f":"IF($C$144<J151,J129,IF(J151<0,L129,K$123))","v":{"v":160.146053863863,"d":"160"}},{"$f":"IF($C$144<K151,K129,IF(K151<0,O129,L$123))","v":{"v":183.0240615587,"d":"183"}}]
[null,null,{"$f":"C140","v":{"v":0.74,"d":"74 %"}},{"$f":"IF(C152<0,E130,D$123)","v":0},{"$f":"IF($C$144<D152,D130,IF(D152<0,F130,E$123))","v":{"v":22.8780076948375,"d":"23"}},{"$f":"IF($C$144<E152,E130,IF(E152<0,G130,F$123))","v":{"v":45.756015389675,"d":"46"}},{"$f":"IF($C$144<F152,F130,IF(F152<0,H130,G$123))","v":{"v":68.6340230845125,"d":"69"}},{"$f":"IF($C$144<G152,G130,IF(G152<0,I130,H$123))","v":{"v":91.51203077935,"d":"92"}},{"$f":"IF($C$144<H152,H130,IF(H152<0,J130,I$123))","v":{"v":114.390038474188,"d":"114"}},{"$f":"IF($C$144<I152,I130,IF(I152<0,K130,J$123))","v":{"v":137.268046169025,"d":"137"}},{"$f":"IF($C$144<J152,J130,IF(J152<0,L130,K$123))","v":{"v":160.146053863863,"d":"160"}},{"$f":"IF($C$144<K152,K130,IF(K152<0,O130,L$123))","v":{"v":183.0240615587,"d":"183"}}]
[null,null,{"$f":"C141","v":{"v":1,"d":"100 %"}},{"$f":"IF(C153<0,E131,D$123)","v":0},{"$f":"IF($C$144<D153,D131,IF(D153<0,F131,E$123))","v":{"v":22.8780076948375,"d":"23"}},{"$f":"IF($C$144<E153,E131,IF(E153<0,G131,F$123))","v":{"v":45.756015389675,"d":"46"}},{"$f":"IF($C$144<F153,F131,IF(F153<0,H131,G$123))","v":{"v":68.6340230845125,"d":"69"}},{"$f":"IF($C$144<G153,G131,IF(G153<0,I131,H$123))","v":{"v":91.51203077935,"d":"92"}},{"$f":"IF($C$144<H153,H131,IF(H153<0,J131,I$123))","v":{"v":114.390038474188,"d":"114"}},{"$f":"IF($C$144<I153,I131,IF(I153<0,K131,J$123))","v":{"v":137.268046169025,"d":"137"}},{"$f":"IF($C$144<J153,J131,IF(J153<0,L131,K$123))","v":{"v":160.146053863863,"d":"160"}},{"$f":"IF($C$144<K153,K131,IF(K153<0,O131,L$123))","v":{"v":183.0240615587,"d":"183"}}]
[null,null,{"$f":"C142","v":{"v":1.9,"d":"190 %"}},{"$f":"IF(C154<0,E132,D$123)","v":0},{"$f":"IF($C$144<D154,D132,IF(D154<0,F132,E$123))","v":{"v":22.8780076948375,"d":"23"}},{"$f":"IF($C$144<E154,E132,IF(E154<0,G132,F$123))","v":{"v":45.756015389675,"d":"46"}},{"$f":"IF($C$144<F154,F132,IF(F154<0,H132,G$123))","v":{"v":68.6340230845125,"d":"69"}},{"$f":"IF($C$144<G154,G132,IF(G154<0,I132,H$123))","v":{"v":91.51203077935,"d":"92"}},{"$f":"IF($C$144<H154,H132,IF(H154<0,J132,I$123))","v":{"v":114.390038474188,"d":"114"}},{"$f":"IF($C$144<I154,I132,IF(I154<0,K132,J$123))","v":{"v":137.268046169025,"d":"137"}},{"$f":"IF($C$144<J154,J132,IF(J154<0,L132,K$123))","v":{"v":160.146053863863,"d":"160"}},{"$f":"IF($C$144<K154,K132,IF(K154<0,O132,L$123))","v":{"v":183.0240615587,"d":"183"}}]
[null,null,{"$f":"C143","v":{"v":99.99,"d":"9999 %"}},{"$f":"IF(C155<0,E133,D$123)","v":0},{"$f":"IF($C$144<D155,D133,IF(D155<0,F133,E$123))","v":{"v":22.8780076948375,"d":"23"}},{"$f":"IF($C$144<E155,E133,IF(E155<0,G133,F$123))","v":{"v":45.756015389675,"d":"46"}},{"$f":"IF($C$144<F155,F133,IF(F155<0,H133,G$123))","v":{"v":68.6340230845125,"d":"69"}},{"$f":"IF($C$144<G155,G133,IF(G155<0,I133,H$123))","v":{"v":91.51203077935,"d":"92"}},{"$f":"IF($C$144<H155,H133,IF(H155<0,J133,I$123))","v":{"v":114.390038474188,"d":"114"}},{"$f":"IF($C$144<I155,I133,IF(I155<0,K133,J$123))","v":{"v":137.268046169025,"d":"137"}},{"$f":"IF($C$144<J155,J133,IF(J155<0,L133,K$123))","v":{"v":160.146053863863,"d":"160"}},{"$f":"IF($C$144<K155,K133,IF(K155<0,O133,L$123))","v":{"v":183.0240615587,"d":"183"}}]
["F\n(Diagramm)",null,{"$f":"O25","v":{"v":0.1,"d":"10 %"}},{"$f":"IF($C$144<C146,\"\",IF(C146<0,E134,C146))","v":{"v":243.788838028101,"d":"244"}},{"$f":"IF($C$144<D146,D134,IF(D146<0,F134,D146))","v":{"v":257.065560844273,"d":"257"}},{"$f":"IF($C$144<E146,E134,IF(E146<0,G134,E146))","v":{"v":296.895729292788,"d":"297"}},{"$f":"IF($C$144<F146,F134,IF(F146<0,H134,F146))","v":{"v":363.279343373647,"d":"363"}},{"$f":"IF($C$144<G146,G134,IF(G146<0,I134,G146))","v":{"v":456.21640308685,"d":"456"}},{"$f":"IF($C$144<H146,H134,IF(H146<0,J134,H146))","v":{"v":575.706908432396,"d":"576"}},{"$f":"IF($C$144<I146,I134,IF(I146<0,K134,I146))","v":{"v":721.750859410286,"d":"722"}},{"$f":"IF($C$144<J146,J134,IF(J146<0,L134,J146))","v":{"v":894.34825602052,"d":"894"}},{"$f":"IF($C$144<K146,K134,IF(K146<0,O134,K146))","v":{"v":1093.4990982631,"d":"1093"}}]
[null,null,{"$f":"O24","v":{"v":-0.05,"d":"-5 %"}},{"$f":"IF($C$144<C147,\"\",IF(C147<0,E135,C147))","v":{"v":33.5151574460096,"d":"34"}},{"$f":"IF($C$144<D147,D135,IF(D147<0,F135,D147))","v":{"v":33.5151574460096,"d":"34"}},{"$f":"IF($C$144<E147,E135,IF(E147<0,G135,E147))","v":{"v":33.5151574460096,"d":"34"}},{"$f":"IF($C$144<F147,F135,IF(F147<0,H135,F147))","v":{"v":33.5151574460096,"d":"34"}},{"$f":"IF($C$144<G147,G135,IF(G147<0,I135,G147))","v":{"v":126.452217159212,"d":"126"}},{"$f":"IF($C$144<H147,H135,IF(H147<0,J135,H147))","v":{"v":245.942722504759,"d":"246"}},{"$f":"IF($C$144<I147,I135,IF(I147<0,K135,I147))","v":{"v":391.986673482649,"d":"392"}},{"$f":"IF($C$144<J147,J135,IF(J147<0,L135,J147))","v":{"v":564.584070092883,"d":"565"}},{"$f":"IF($C$144<K147,K135,IF(K147<0,O135,K147))","v":{"v":763.73491233546,"d":"764"}}]
[null,null,{"$f":"O23","v":{"v":0,"d":"0 %"}},{"$f":"IF($C$144<C148,\"\",IF(C148<0,E136,C148))","v":{"v":24.27975,"d":"24"}},{"$f":"IF($C$144<D148,D136,IF(D148<0,F136,D148))","v":{"v":37.5564728161718,"d":"38"}},{"$f":"IF($C$144<E148,E136,IF(E148<0,G136,E148))","v":{"v":77.3866412646873,"d":"77"}},{"$f":"IF($C$144<F148,F136,IF(F148<0,H136,F148))","v":{"v":143.770255345546,"d":"144"}},{"$f":"IF($C$144<G148,G136,IF(G148<0,I136,G148))","v":{"v":236.707315058749,"d":"237"}},{"$f":"IF($C$144<H148,H136,IF(H148<0,J136,H148))","v":{"v":356.197820404296,"d":"356"}},{"$f":"IF($C$144<I148,I136,IF(I148<0,K136,I148))","v":{"v":502.241771382185,"d":"502"}},{"$f":"IF($C$144<J148,J136,IF(J148<0,L136,J148))","v":{"v":674.839167992419,"d":"675"}},{"$f":"IF($C$144<K148,K136,IF(K148<0,O136,K148))","v":{"v":873.990010234997,"d":"874"}}]
[null,null,{"$f":"O22","v":{"v":0.05,"d":"5 %"}},{"$f":"IF($C$144<C149,\"\",IF(C149<0,E137,C149))","v":{"v":134.474262099276,"d":"134"}},{"$f":"IF($C$144<D149,D137,IF(D149<0,F137,D149))","v":{"v":147.750984915447,"d":"148"}},{"$f":"IF($C$144<E149,E137,IF(E149<0,G137,E149))","v":{"v":187.581153363963,"d":"188"}},{"$f":"IF($C$144<F149,F137,IF(F149<0,H137,F149))","v":{"v":253.964767444822,"d":"254"}},{"$f":"IF($C$144<G149,G137,IF(G149<0,I137,G149))","v":{"v":346.901827158025,"d":"347"}},{"$f":"IF($C$144<H149,H137,IF(H149<0,J137,H149))","v":{"v":466.392332503571,"d":"466"}},{"$f":"IF($C$144<I149,I137,IF(I149<0,K137,I149))","v":{"v":612.436283481461,"d":"612"}},{"$f":"IF($C$144<J149,J137,IF(J149<0,L137,J149))","v":{"v":785.033680091695,"d":"785"}},{"$f":"IF($C$144<K149,K137,IF(K149<0,O137,K149))","v":{"v":984.184522334272,"d":"984"}}]
[null,null,{"$f":"O21","v":{"v":0.33,"d":"33 %"}},{"$f":"IF($C$144<C150,\"\",IF(C150<0,E138,C150))","v":{"v":714.759131984614,"d":"715"}},{"$f":"IF($C$144<D150,D138,IF(D150<0,F138,D150))","v":{"v":728.035854800786,"d":"728"}},{"$f":"IF($C$144<E150,E138,IF(E150<0,G138,E150))","v":{"v":767.866023249302,"d":"768"}},{"$f":"IF($C$144<F150,F138,IF(F150<0,H138,F150))","v":{"v":834.249637330161,"d":"834"}},{"$f":"IF($C$144<G150,G138,IF(G150<0,I138,G150))","v":{"v":927.186697043364,"d":"927"}},{"$f":"IF($C$144<H150,H138,IF(H150<0,J138,H150))","v":{"v":1046.67720238891,"d":"1047"}},{"$f":"IF($C$144<I150,I138,IF(I150<0,K138,I150))","v":{"v":1192.7211533668,"d":"1193"}},{"$f":"IF($C$144<J150,J138,IF(J150<0,L138,J150))","v":{"v":1365.31854997703,"d":"1365"}},{"$f":"IF($C$144<K150,K138,IF(K150<0,O138,K150))","v":{"v":1564.46939221961,"d":"1564"}}]
[null,null,{"$f":"O20","v":{"v":0.47,"d":"47 %"}},{"$f":"IF($C$144<C151,\"\",IF(C151<0,E139,C151))","v":{"v":960.8521250956,"d":"961"}},{"$f":"IF($C$144<D151,D139,IF(D151<0,F139,D151))","v":{"v":974.128847911772,"d":"974"}},{"$f":"IF($C$144<E151,E139,IF(E151<0,G139,E151))","v":{"v":1013.95901636029,"d":"1014"}},{"$f":"IF($C$144<F151,F139,IF(F151<0,H139,F151))","v":{"v":1080.34263044115,"d":"1080"}},{"$f":"IF($C$144<G151,G139,IF(G151<0,I139,G151))","v":{"v":1173.27969015435,"d":"1173"}},{"$f":"IF($C$144<H151,H139,IF(H151<0,J139,H151))","v":{"v":1292.7701954999,"d":"1293"}},{"$f":"IF($C$144<I151,I139,IF(I151<0,K139,I151))","v":{"v":1438.81414647779,"d":"1439"}},{"$f":"IF($C$144<J151,J139,IF(J151<0,L139,J151))","v":{"v":1611.41154308802,"d":"1611"}},{"$f":"IF($C$144<K151,K139,IF(K151<0,O139,K151))","v":{"v":1810.5623853306,"d":"1811"}}]
[null,null,{"$f":"O19","v":{"v":0.74,"d":"74 %"}},{"$f":"IF($C$144<C152,\"\",IF(C152<0,E140,C152))","v":{"v":1332.48430404405,"d":"1332"}},{"$f":"IF($C$144<D152,D140,IF(D152<0,F140,D152))","v":{"v":1345.76102686022,"d":"1346"}},{"$f":"IF($C$144<E152,E140,IF(E152<0,G140,E152))","v":{"v":1385.59119530874,"d":"1386"}},{"$f":"IF($C$144<F152,F140,IF(F152<0,H140,F152))","v":{"v":1451.9748093896,"d":"1452"}},{"$f":"IF($C$144<G152,G140,IF(G152<0,I140,G152))","v":{"v":1544.9118691028,"d":"1545"}},{"$f":"IF($C$144<H152,H140,IF(H152<0,J140,H152))","v":{"v":1664.40237444834,"d":"1664"}},{"$f":"IF($C$144<I152,I140,IF(I152<0,K140,I152))","v":{"v":1810.44632542623,"d":"1810"}},{"$f":"IF($C$144<J152,J140,IF(J152<0,L140,J152))","v":{"v":1983.04372203647,"d":"1983"}},{"$f":"IF($C$144<K152,K140,IF(K152<0,O140,K152))","v":{"v":2182.19456427905,"d":"2182"}}]
[null,null,{"$f":"O18","v":{"v":1,"d":"100 %"}},{"$f":"IF($C$144<C153,\"\",IF(C153<0,E141,C153))","v":{"v":1577.92981864452,"d":"1578"}},{"$f":"IF($C$144<D153,D141,IF(D153<0,F141,D153))","v":{"v":1591.20654146069,"d":"1591"}},{"$f":"IF($C$144<E153,E141,IF(E153<0,G141,E153))","v":{"v":1631.03670990921,"d":"1631"}},{"$f":"IF($C$144<F153,F141,IF(F153<0,H141,F153))","v":{"v":1697.42032399007,"d":"1697"}},{"$f":"IF($C$144<G153,G141,IF(G153<0,I141,G153))","v":{"v":1790.35738370327,"d":"1790"}},{"$f":"IF($C$144<H153,H141,IF(H153<0,J141,H153))","v":{"v":1909.84788904882,"d":"1910"}},{"$f":"IF($C$144<I153,I141,IF(I153<0,K141,I153))","v":{"v":2055.89184002671,"d":"2056"}},{"$f":"IF($C$144<J153,J141,IF(J153<0,L141,J153))","v":{"v":2228.48923663694,"d":"2228"}},{"$f":"IF($C$144<K153,K141,IF(K153<0,O141,K153))","v":{"v":2427.64007887952,"d":"2428"}}]
[null,null,{"$f":"O17","v":{"v":1.9,"d":"190 %"}},{"$f":"IF($C$144<C154,\"\",IF(C154<0,E142,C154))","v":{"v":1964.5439533052,"d":"1965"}},{"$f":"IF($C$144<D154,D142,IF(D154<0,F142,D154))","v":{"v":1977.82067612137,"d":"1978"}},{"$f":"IF($C$144<E154,E142,IF(E154<0,G142,E154))","v":{"v":2017.65084456989,"d":"2018"}},{"$f":"IF($C$144<F154,F142,IF(F154<0,H142,F154))","v":{"v":2084.03445865075,"d":"2084"}},{"$f":"IF($C$144<G154,G142,IF(G154<0,I142,G154))","v":{"v":2176.97151836395,"d":"2177"}},{"$f":"IF($C$144<H154,H142,IF(H154<0,J142,H154))","v":{"v":2296.46202370949,"d":"2296"}},{"$f":"IF($C$144<I154,I142,IF(I154<0,K142,I154))","v":{"v":2442.50597468738,"d":"2443"}},{"$f":"IF($C$144<J154,J142,IF(J154<0,L142,J154))","v":{"v":2615.10337129762,"d":"2615"}},{"$f":"IF($C$144<K154,K142,IF(K154<0,O142,K154))","v":{"v":2814.25421354019,"d":"2814"}}]
[null,null,{"$f":"O16","v":{"v":99.99,"d":"9999 %"}},{"$f":"IF($C$144<C155,\"\",IF(C155<0,E143,C155))","v":{"v":2207.38243334357,"d":"2207"}},{"$f":"IF($C$144<D155,D143,IF(D155<0,F143,D155))","v":{"v":2220.65915615974,"d":"2221"}},{"$f":"IF($C$144<E155,E143,IF(E155<0,G143,E155))","v":{"v":2260.48932460826,"d":"2260"}},{"$f":"IF($C$144<F155,F143,IF(F155<0,H143,F155))","v":{"v":2326.87293868912,"d":"2327"}},{"$f":"IF($C$144<G155,G143,IF(G155<0,I143,G155))","v":{"v":2419.80999840232,"d":"2420"}},{"$f":"IF($C$144<H155,H143,IF(H155<0,J143,H155))","v":{"v":2539.30050374786,"d":"2539"}},{"$f":"IF($C$144<I155,I143,IF(I155<0,K143,I155))","v":{"v":2685.34445472575,"d":"2685"}},{"$f":"IF($C$144<J155,J143,IF(J155<0,L143,J155))","v":{"v":2857.94185133599,"d":"2858"}},{"$f":"IF($C$144<K155,K143,IF(K155<0,O143,K155))","v":{"v":3057.09269357857,"d":"3057"}}]
["Fmax",null,{"$f":"D144*E144","v":{"v":3246.21753225089,"d":"3246"}},{"$f":"P11","v":1.02},{"$f":"MAX(C98:M111)","v":{"v":3182.56620808911,"d":"3183"}}]
[]
["F\n(Rechnung)",null,{"$f":"1.293/2*(D$123/3.6)^2*$N$4*$L$4+$I$4*9.81*$G$4*COS(ATAN($C134))+$I$4*9.81*SIN(ATAN($C134))","v":{"v":243.788838028101,"d":"244"}},{"$f":"1.293/2*(E$123/3.6)^2*$N$4*$L$4+$I$4*9.81*$G$4*COS(ATAN($C134))+$I$4*9.81*SIN(ATAN($C134))","v":{"v":257.065560844273,"d":"257"}},{"$f":"1.293/2*(F$123/3.6)^2*$N$4*$L$4+$I$4*9.81*$G$4*COS(ATAN($C134))+$I$4*9.81*SIN(ATAN($C134))","v":{"v":296.895729292788,"d":"297"}},{"$f":"1.293/2*(G$123/3.6)^2*$N$4*$L$4+$I$4*9.81*$G$4*COS(ATAN($C134))+$I$4*9.81*SIN(ATAN($C134))","v":{"v":363.279343373647,"d":"363"}},{"$f":"1.293/2*(H$123/3.6)^2*$N$4*$L$4+$I$4*9.81*$G$4*COS(ATAN($C134))+$I$4*9.81*SIN(ATAN($C134))","v":{"v":456.21640308685,"d":"456"}},{"$f":"1.293/2*(I$123/3.6)^2*$N$4*$L$4+$I$4*9.81*$G$4*COS(ATAN($C134))+$I$4*9.81*SIN(ATAN($C134))","v":{"v":575.706908432396,"d":"576"}},{"$f":"1.293/2*(J$123/3.6)^2*$N$4*$L$4+$I$4*9.81*$G$4*COS(ATAN($C134))+$I$4*9.81*SIN(ATAN($C134))","v":{"v":721.750859410286,"d":"722"}},{"$f":"1.293/2*(K$123/3.6)^2*$N$4*$L$4+$I$4*9.81*$G$4*COS(ATAN($C134))+$I$4*9.81*SIN(ATAN($C134))","v":{"v":894.34825602052,"d":"894"}},{"$f":"1.293/2*(L$123/3.6)^2*$N$4*$L$4+$I$4*9.81*$G$4*COS(ATAN($C134))+$I$4*9.81*SIN(ATAN($C134))","v":{"v":1093.4990982631,"d":"1093"}}]
[null,null,{"$f":"1.293/2*(D$123/3.6)^2*$N$4*$L$4+$I$4*9.81*$G$4*COS(ATAN($C135))+$I$4*9.81*SIN(ATAN($C135))","v":{"v":-85.9753478995368,"d":"-86"}},{"$f":"1.293/2*(E$123/3.6)^2*$N$4*$L$4+$I$4*9.81*$G$4*COS(ATAN($C135))+$I$4*9.81*SIN(ATAN($C135))","v":{"v":-72.698625083365,"d":"-73"}},{"$f":"1.293/2*(F$123/3.6)^2*$N$4*$L$4+$I$4*9.81*$G$4*COS(ATAN($C135))+$I$4*9.81*SIN(ATAN($C135))","v":{"v":-32.8684566348495,"d":"-33"}},{"$f":"1.293/2*(G$123/3.6)^2*$N$4*$L$4+$I$4*9.81*$G$4*COS(ATAN($C135))+$I$4*9.81*SIN(ATAN($C135))","v":{"v":33.5151574460096,"d":"34"}},{"$f":"1.293/2*(H$123/3.6)^2*$N$4*$L$4+$I$4*9.81*$G$4*COS(ATAN($C135))+$I$4*9.81*SIN(ATAN($C135))","v":{"v":126.452217159212,"d":"126"}},{"$f":"1.293/2*(I$123/3.6)^2*$N$4*$L$4+$I$4*9.81*$G$4*COS(ATAN($C135))+$I$4*9.81*SIN(ATAN($C135))","v":{"v":245.942722504759,"d":"246"}},{"$f":"1.293/2*(J$123/3.6)^2*$N$4*$L$4+$I$4*9.81*$G$4*COS(ATAN($C135))+$I$4*9.81*SIN(ATAN($C135))","v":{"v":391.986673482649,"d":"392"}},{"$f":"1.293/2*(K$123/3.6)^2*$N$4*$L$4+$I$4*9.81*$G$4*COS(ATAN($C135))+$I$4*9.81*SIN(ATAN($C135))","v":{"v":564.584070092883,"d":"565"}},{"$f":"1.293/2*(L$123/3.6)^2*$N$4*$L$4+$I$4*9.81*$G$4*COS(ATAN($C135))+$I$4*9.81*SIN(ATAN($C135))","v":{"v":763.73491233546,"d":"764"}}]
[null,null,{"$f":"1.293/2*(D$123/3.6)^2*$N$4*$L$4+$I$4*9.81*$G$4*COS(ATAN($C136))+$I$4*9.81*SIN(ATAN($C136))","v":{"v":24.27975,"d":"24"}},{"$f":"1.293/2*(E$123/3.6)^2*$N$4*$L$4+$I$4*9.81*$G$4*COS(ATAN($C136))+$I$4*9.81*SIN(ATAN($C136))","v":{"v":37.5564728161718,"d":"38"}},{"$f":"1.293/2*(F$123/3.6)^2*$N$4*$L$4+$I$4*9.81*$G$4*COS(ATAN($C136))+$I$4*9.81*SIN(ATAN($C136))","v":{"v":77.3866412646873,"d":"77"}},{"$f":"1.293/2*(G$123/3.6)^2*$N$4*$L$4+$I$4*9.81*$G$4*COS(ATAN($C136))+$I$4*9.81*SIN(ATAN($C136))","v":{"v":143.770255345546,"d":"144"}},{"$f":"1.293/2*(H$123/3.6)^2*$N$4*$L$4+$I$4*9.81*$G$4*COS(ATAN($C136))+$I$4*9.81*SIN(ATAN($C136))","v":{"v":236.707315058749,"d":"237"}},{"$f":"1.293/2*(I$123/3.6)^2*$N$4*$L$4+$I$4*9.81*$G$4*COS(ATAN($C136))+$I$4*9.81*SIN(ATAN($C136))","v":{"v":356.197820404296,"d":"356"}},{"$f":"1.293/2*(J$123/3.6)^2*$N$4*$L$4+$I$4*9.81*$G$4*COS(ATAN($C136))+$I$4*9.81*SIN(ATAN($C136))","v":{"v":502.241771382185,"d":"502"}},{"$f":"1.293/2*(K$123/3.6)^2*$N$4*$L$4+$I$4*9.81*$G$4*COS(ATAN($C136))+$I$4*9.81*SIN(ATAN($C136))","v":{"v":674.839167992419,"d":"675"}},{"$f":"1.293/2*(L$123/3.6)^2*$N$4*$L$4+$I$4*9.81*$G$4*COS(ATAN($C136))+$I$4*9.81*SIN(ATAN($C136))","v":{"v":873.990010234997,"d":"874"}}]
[null,null,{"$f":"1.293/2*(D$123/3.6)^2*$N$4*$L$4+$I$4*9.81*$G$4*COS(ATAN($C137))+$I$4*9.81*SIN(ATAN($C137))","v":{"v":134.474262099276,"d":"134"}},{"$f":"1.293/2*(E$123/3.6)^2*$N$4*$L$4+$I$4*9.81*$G$4*COS(ATAN($C137))+$I$4*9.81*SIN(ATAN($C137))","v":{"v":147.750984915447,"d":"148"}},{"$f":"1.293/2*(F$123/3.6)^2*$N$4*$L$4+$I$4*9.81*$G$4*COS(ATAN($C137))+$I$4*9.81*SIN(ATAN($C137))","v":{"v":187.581153363963,"d":"188"}},{"$f":"1.293/2*(G$123/3.6)^2*$N$4*$L$4+$I$4*9.81*$G$4*COS(ATAN($C137))+$I$4*9.81*SIN(ATAN($C137))","v":{"v":253.964767444822,"d":"254"}},{"$f":"1.293/2*(H$123/3.6)^2*$N$4*$L$4+$I$4*9.81*$G$4*COS(ATAN($C137))+$I$4*9.81*SIN(ATAN($C137))","v":{"v":346.901827158025,"d":"347"}},{"$f":"1.293/2*(I$123/3.6)^2*$N$4*$L$4+$I$4*9.81*$G$4*COS(ATAN($C137))+$I$4*9.81*SIN(ATAN($C137))","v":{"v":466.392332503571,"d":"466"}},{"$f":"1.293/2*(J$123/3.6)^2*$N$4*$L$4+$I$4*9.81*$G$4*COS(ATAN($C137))+$I$4*9.81*SIN(ATAN($C137))","v":{"v":612.436283481461,"d":"612"}},{"$f":"1.293/2*(K$123/3.6)^2*$N$4*$L$4+$I$4*9.81*$G$4*COS(ATAN($C137))+$I$4*9.81*SIN(ATAN($C137))","v":{"v":785.033680091695,"d":"785"}},{"$f":"1.293/2*(L$123/3.6)^2*$N$4*$L$4+$I$4*9.81*$G$4*COS(ATAN($C137))+$I$4*9.81*SIN(ATAN($C137))","v":{"v":984.184522334272,"d":"984"}}]
[null,null,{"$f":"1.293/2*(D$123/3.6)^2*$N$4*$L$4+$I$4*9.81*$G$4*COS(ATAN($C138))+$I$4*9.81*SIN(ATAN($C138))","v":{"v":714.759131984614,"d":"715"}},{"$f":"1.293/2*(E$123/3.6)^2*$N$4*$L$4+$I$4*9.81*$G$4*COS(ATAN($C138))+$I$4*9.81*SIN(ATAN($C138))","v":{"v":728.035854800786,"d":"728"}},{"$f":"1.293/2*(F$123/3.6)^2*$N$4*$L$4+$I$4*9.81*$G$4*COS(ATAN($C138))+$I$4*9.81*SIN(ATAN($C138))","v":{"v":767.866023249302,"d":"768"}},{"$f":"1.293/2*(G$123/3.6)^2*$N$4*$L$4+$I$4*9.81*$G$4*COS(ATAN($C138))+$I$4*9.81*SIN(ATAN($C138))","v":{"v":834.249637330161,"d":"834"}},{"$f":"1.293/2*(H$123/3.6)^2*$N$4*$L$4+$I$4*9.81*$G$4*COS(ATAN($C138))+$I$4*9.81*SIN(ATAN($C138))","v":{"v":927.186697043364,"d":"927"}},{"$f":"1.293/2*(I$123/3.6)^2*$N$4*$L$4+$I$4*9.81*$G$4*COS(ATAN($C138))+$I$4*9.81*SIN(ATAN($C138))","v":{"v":1046.67720238891,"d":"1047"}},{"$f":"1.293/2*(J$123/3.6)^2*$N$4*$L$4+$I$4*9.81*$G$4*COS(ATAN($C138))+$I$4*9.81*SIN(ATAN($C138))","v":{"v":1192.7211533668,"d":"1193"}},{"$f":"1.293/2*(K$123/3.6)^2*$N$4*$L$4+$I$4*9.81*$G$4*COS(ATAN($C138))+$I$4*9.81*SIN(ATAN($C138))","v":{"v":1365.31854997703,"d":"1365"}},{"$f":"1.293/2*(L$123/3.6)^2*$N$4*$L$4+$I$4*9.81*$G$4*COS(ATAN($C138))+$I$4*9.81*SIN(ATAN($C138))","v":{"v":1564.46939221961,"d":"1564"}}]
[null,null,{"$f":"1.293/2*(D$123/3.6)^2*$N$4*$L$4+$I$4*9.81*$G$4*COS(ATAN($C139))+$I$4*9.81*SIN(ATAN($C139))","v":{"v":960.8521250956,"d":"961"}},{"$f":"1.293/2*(E$123/3.6)^2*$N$4*$L$4+$I$4*9.81*$G$4*COS(ATAN($C139))+$I$4*9.81*SIN(ATAN($C139))","v":{"v":974.128847911772,"d":"974"}},{"$f":"1.293/2*(F$123/3.6)^2*$N$4*$L$4+$I$4*9.81*$G$4*COS(ATAN($C139))+$I$4*9.81*SIN(ATAN($C139))","v":{"v":1013.95901636029,"d":"1014"}},{"$f":"1.293/2*(G$123/3.6)^2*$N$4*$L$4+$I$4*9.81*$G$4*COS(ATAN($C139))+$I$4*9.81*SIN(ATAN($C139))","v":{"v":1080.34263044115,"d":"1080"}},{"$f":"1.293/2*(H$123/3.6)^2*$N$4*$L$4+$I$4*9.81*$G$4*COS(ATAN($C139))+$I$4*9.81*SIN(ATAN($C139))","v":{"v":1173.27969015435,"d":"1173"}},{"$f":"1.293/2*(I$123/3.6)^2*$N$4*$L$4+$I$4*9.81*$G$4*COS(ATAN($C139))+$I$4*9.81*SIN(ATAN($C139))","v":{"v":1292.7701954999,"d":"1293"}},{"$f":"1.293/2*(J$123/3.6)^2*$N$4*$L$4+$I$4*9.81*$G$4*COS(ATAN($C139))+$I$4*9.81*SIN(ATAN($C139))","v":{"v":1438.81414647779,"d":"1439"}},{"$f":"1.293/2*(K$123/3.6)^2*$N$4*$L$4+$I$4*9.81*$G$4*COS(ATAN($C139))+$I$4*9.81*SIN(ATAN($C139))","v":{"v":1611.41154308802,"d":"1611"}},{"$f":"1.293/2*(L$123/3.6)^2*$N$4*$L$4+$I$4*9.81*$G$4*COS(ATAN($C139))+$I$4*9.81*SIN(ATAN($C139))","v":{"v":1810.5623853306,"d":"1811"}}]
[null,null,{"$f":"1.293/2*(D$123/3.6)^2*$N$4*$L$4+$I$4*9.81*$G$4*COS(ATAN($C140))+$I$4*9.81*SIN(ATAN($C140))","v":{"v":1332.48430404405,"d":"1332"}},{"$f":"1.293/2*(E$123/3.6)^2*$N$4*$L$4+$I$4*9.81*$G$4*COS(ATAN($C140))+$I$4*9.81*SIN(ATAN($C140))","v":{"v":1345.76102686022,"d":"1346"}},{"$f":"1.293/2*(F$123/3.6)^2*$N$4*$L$4+$I$4*9.81*$G$4*COS(ATAN($C140))+$I$4*9.81*SIN(ATAN($C140))","v":{"v":1385.59119530874,"d":"1386"}},{"$f":"1.293/2*(G$123/3.6)^2*$N$4*$L$4+$I$4*9.81*$G$4*COS(ATAN($C140))+$I$4*9.81*SIN(ATAN($C140))","v":{"v":1451.9748093896,"d":"1452"}},{"$f":"1.293/2*(H$123/3.6)^2*$N$4*$L$4+$I$4*9.81*$G$4*COS(ATAN($C140))+$I$4*9.81*SIN(ATAN($C140))","v":{"v":1544.9118691028,"d":"1545"}},{"$f":"1.293/2*(I$123/3.6)^2*$N$4*$L$4+$I$4*9.81*$G$4*COS(ATAN($C140))+$I$4*9.81*SIN(ATAN($C140))","v":{"v":1664.40237444834,"d":"1664"}},{"$f":"1.293/2*(J$123/3.6)^2*$N$4*$L$4+$I$4*9.81*$G$4*COS(ATAN($C140))+$I$4*9.81*SIN(ATAN($C140))","v":{"v":1810.44632542623,"d":"1810"}},{"$f":"1.293/2*(K$123/3.6)^2*$N$4*$L$4+$I$4*9.81*$G$4*COS(ATAN($C140))+$I$4*9.81*SIN(ATAN($C140))","v":{"v":1983.04372203647,"d":"1983"}},{"$f":"1.293/2*(L$123/3.6)^2*$N$4*$L$4+$I$4*9.81*$G$4*COS(ATAN($C140))+$I$4*9.81*SIN(ATAN($C140))","v":{"v":2182.19456427905,"d":"2182"}}]
[null,null,{"$f":"1.293/2*(D$123/3.6)^2*$N$4*$L$4+$I$4*9.81*$G$4*COS(ATAN($C141))+$I$4*9.81*SIN(ATAN($C141))","v":{"v":1577.92981864452,"d":"1578"}},{"$f":"1.293/2*(E$123/3.6)^2*$N$4*$L$4+$I$4*9.81*$G$4*COS(ATAN($C141))+$I$4*9.81*SIN(ATAN($C141))","v":{"v":1591.20654146069,"d":"1591"}},{"$f":"1.293/2*(F$123/3.6)^2*$N$4*$L$4+$I$4*9.81*$G$4*COS(ATAN($C141))+$I$4*9.81*SIN(ATAN($C141))","v":{"v":1631.03670990921,"d":"1631"}},{"$f":"1.293/2*(G$123/3.6)^2*$N$4*$L$4+$I$4*9.81*$G$4*COS(ATAN($C141))+$I$4*9.81*SIN(ATAN($C141))","v":{"v":1697.42032399007,"d":"1697"}},{"$f":"1.293/2*(H$123/3.6)^2*$N$4*$L$4+$I$4*9.81*$G$4*COS(ATAN($C141))+$I$4*9.81*SIN(ATAN($C141))","v":{"v":1790.35738370327,"d":"1790"}},{"$f":"1.293/2*(I$123/3.6)^2*$N$4*$L$4+$I$4*9.81*$G$4*COS(ATAN($C141))+$I$4*9.81*SIN(ATAN($C141))","v":{"v":1909.84788904882,"d":"1910"}},{"$f":"1.293/2*(J$123/3.6)^2*$N$4*$L$4+$I$4*9.81*$G$4*COS(ATAN($C141))+$I$4*9.81*SIN(ATAN($C141))","v":{"v":2055.89184002671,"d":"2056"}},{"$f":"1.293/2*(K$123/3.6)^2*$N$4*$L$4+$I$4*9.81*$G$4*COS(ATAN($C141))+$I$4*9.81*SIN(ATAN($C141))","v":{"v":2228.48923663694,"d":"2228"}},{"$f":"1.293/2*(L$123/3.6)^2*$N$4*$L$4+$I$4*9.81*$G$4*COS(ATAN($C141))+$I$4*9.81*SIN(ATAN($C141))","v":{"v":2427.64007887952,"d":"2428"}}]
[null,null,{"$f":"1.293/2*(D$123/3.6)^2*$N$4*$L$4+$I$4*9.81*$G$4*COS(ATAN($C142))+$I$4*9.81*SIN(ATAN($C142))","v":{"v":1964.5439533052,"d":"1965"}},{"$f":"1.293/2*(E$123/3.6)^2*$N$4*$L$4+$I$4*9.81*$G$4*COS(ATAN($C142))+$I$4*9.81*SIN(ATAN($C142))","v":{"v":1977.82067612137,"d":"1978"}},{"$f":"1.293/2*(F$123/3.6)^2*$N$4*$L$4+$I$4*9.81*$G$4*COS(ATAN($C142))+$I$4*9.81*SIN(ATAN($C142))","v":{"v":2017.65084456989,"d":"2018"}},{"$f":"1.293/2*(G$123/3.6)^2*$N$4*$L$4+$I$4*9.81*$G$4*COS(ATAN($C142))+$I$4*9.81*SIN(ATAN($C142))","v":{"v":2084.03445865075,"d":"2084"}},{"$f":"1.293/2*(H$123/3.6)^2*$N$4*$L$4+$I$4*9.81*$G$4*COS(ATAN($C142))+$I$4*9.81*SIN(ATAN($C142))","v":{"v":2176.97151836395,"d":"2177"}},{"$f":"1.293/2*(I$123/3.6)^2*$N$4*$L$4+$I$4*9.81*$G$4*COS(ATAN($C142))+$I$4*9.81*SIN(ATAN($C142))","v":{"v":2296.46202370949,"d":"2296"}},{"$f":"1.293/2*(J$123/3.6)^2*$N$4*$L$4+$I$4*9.81*$G$4*COS(ATAN($C142))+$I$4*9.81*SIN(ATAN($C142))","v":{"v":2442.50597468738,"d":"2443"}},{"$f":"1.293/2*(K$123/3.6)^2*$N$4*$L$4+$I$4*9.81*$G$4*COS(ATAN($C142))+$I$4*9.81*SIN(ATAN($C142))","v":{"v":2615.10337129762,"d":"2615"}},{"$f":"1.293/2*(L$123/3.6)^2*$N$4*$L$4+$I$4*9.81*$G$4*COS(ATAN($C142))+$I$4*9.81*SIN(ATAN($C142))","v":{"v":2814.25421354019,"d":"2814"}}]
[null,null,{"$f":"1.293/2*(D$123/3.6)^2*$N$4*$L$4+$I$4*9.81*$G$4*COS(ATAN($C143))+$I$4*9.81*SIN(ATAN($C143))","v":{"v":2207.38243334357,"d":"2207"}},{"$f":"1.293/2*(E$123/3.6)^2*$N$4*$L$4+$I$4*9.81*$G$4*COS(ATAN($C143))+$I$4*9.81*SIN(ATAN($C143))","v":{"v":2220.65915615974,"d":"2221"}},{"$f":"1.293/2*(F$123/3.6)^2*$N$4*$L$4+$I$4*9.81*$G$4*COS(ATAN($C143))+$I$4*9.81*SIN(ATAN($C143))","v":{"v":2260.48932460826,"d":"2260"}},{"$f":"1.293/2*(G$123/3.6)^2*$N$4*$L$4+$I$4*9.81*$G$4*COS(ATAN($C143))+$I$4*9.81*SIN(ATAN($C143))","v":{"v":2326.87293868912,"d":"2327"}},{"$f":"1.293/2*(H$123/3.6)^2*$N$4*$L$4+$I$4*9.81*$G$4*COS(ATAN($C143))+$I$4*9.81*SIN(ATAN($C143))","v":{"v":2419.80999840232,"d":"2420"}},{"$f":"1.293/2*(I$123/3.6)^2*$N$4*$L$4+$I$4*9.81*$G$4*COS(ATAN($C143))+$I$4*9.81*SIN(ATAN($C143))","v":{"v":2539.30050374786,"d":"2539"}},{"$f":"1.293/2*(J$123/3.6)^2*$N$4*$L$4+$I$4*9.81*$G$4*COS(ATAN($C143))+$I$4*9.81*SIN(ATAN($C143))","v":{"v":2685.34445472575,"d":"2685"}},{"$f":"1.293/2*(K$123/3.6)^2*$N$4*$L$4+$I$4*9.81*$G$4*COS(ATAN($C143))+$I$4*9.81*SIN(ATAN($C143))","v":{"v":2857.94185133599,"d":"2858"}},{"$f":"1.293/2*(L$123/3.6)^2*$N$4*$L$4+$I$4*9.81*$G$4*COS(ATAN($C143))+$I$4*9.81*SIN(ATAN($C143))","v":{"v":3057.09269357857,"d":"3057"}}]
[]
[]
["P",{"$f":"'Leistung u. Drehmoment'!C5","v":11},{"$f":"'Leistung u. Drehmoment'!D5","v":20},{"$f":"'Leistung u. Drehmoment'!E5","v":25},{"$f":"'Leistung u. Drehmoment'!F5","v":30},{"$f":"'Leistung u. Drehmoment'!G5","v":35},{"$f":"'Leistung u. Drehmoment'!H5","v":39},{"$f":"'Leistung u. Drehmoment'!I5","v":42},{"$f":"'Leistung u. Drehmoment'!J5","v":43.5},{"$f":"'Leistung u. Drehmoment'!K5","v":43},{"$f":"'Leistung u. Drehmoment'!L5","v":40},{"$f":"MAX(B158:K158)","v":43.5}]
["M",{"$f":"'Leistung u. Drehmoment'!C4","v":35.0166666666667},{"$f":"'Leistung u. Drehmoment'!D4","v":47.75},{"$f":"'Leistung u. Drehmoment'!E4","v":53.0555555555556},{"$f":"'Leistung u. Drehmoment'!F4","v":57.3},{"$f":"'Leistung u. Drehmoment'!G4","v":60.7727272727273},{"$f":"'Leistung u. Drehmoment'!H4","v":62.075},{"$f":"'Leistung u. Drehmoment'!I4","v":61.7076923076923},{"$f":"'Leistung u. Drehmoment'!J4","v":59.3464285714286},{"$f":"'Leistung u. Drehmoment'!K4","v":54.7533333333333},{"$f":"'Leistung u. Drehmoment'!L4","v":47.75},{"$f":"HLOOKUP(L158,B158:K160,2,FALSE())","v":59.3464285714286}]
["n",{"$f":"'Leistung u. Drehmoment'!C1","v":3000},{"$f":"'Leistung u. Drehmoment'!D1","v":4000},{"$f":"'Leistung u. Drehmoment'!E1","v":4500},{"$f":"'Leistung u. Drehmoment'!F1","v":5000},{"$f":"'Leistung u. Drehmoment'!G1","v":5500},{"$f":"'Leistung u. Drehmoment'!H1","v":6000},{"$f":"'Leistung u. Drehmoment'!I1","v":6500},{"$f":"'Leistung u. Drehmoment'!J1","v":7000},{"$f":"'Leistung u. Drehmoment'!K1","v":7500},{"$f":"'Leistung u. Drehmoment'!L1","v":8000},{"$f":"HLOOKUP(L158,B158:K160,3,FALSE())","v":7000}]
[]
["v",{"$f":"MIN(M114:M120)/O11","v":50.0825951361599},{"$f":"B162+($K162-$B162)/9","v":64.0717150738836},{"$f":"C162+($K162-$B162)/9","v":78.0608350116073},{"$f":"D162+($K162-$B162)/9","v":92.049954949331},{"$f":"E162+($K162-$B162)/9","v":106.039074887055},{"$f":"F162+($K162-$B162)/9","v":120.028194824778},{"$f":"G162+($K162-$B162)/9","v":134.017314762502},{"$f":"H162+($K162-$B162)/9","v":148.006434700226},{"$f":"I162+($K162-$B162)/9","v":161.995554637949},{"$f":"MAX(M114:M120)","v":175.984674575673}]
["F",{"$f":"3600*$L$158/B162*$B$164","v":2881.37824343311},{"$f":"3600*$L$158/C162*$B$164","v":2252.27153407075},{"$f":"3600*$L$158/D162*$B$164","v":1848.64663539075},{"$f":"3600*$L$158/E162*$B$164","v":1567.70201657821},{"$f":"3600*$L$158/F162*$B$164","v":1360.88418494508},{"$f":"3600*$L$158/G162*$B$164","v":1202.27501722128},{"$f":"3600*$L$158/H162*$B$164","v":1076.7780286878},{"$f":"3600*$L$158/I162*$B$164","v":975.004230676059},{"$f":"3600*$L$158/J162*$B$164","v":890.80777754993},{"$f":"3600*$L$158/K162*$B$164","v":819.996970463177}]
["Eta",{"$f":"C8*E8*MAX(F8:L8)","v":0.9215}]